BEGIN:VCALENDAR
VERSION:2.0
PRODID:-//wp-events-plugin.com//7.2.3.1//EN
TZID:Europe/Rome
X-WR-TIMEZONE:Europe/Rome
BEGIN:VEVENT
UID:33041@lazioeventi.com
DTSTART;TZID=Europe/Rome;VALUE=DATE:20221120
DTEND;TZID=Europe/Rome;VALUE=DATE:20221121
DTSTAMP:20221114T160252Z
URL:https://lazioeventi.com/eventi/torna-il-giorno-di-bacco-a-palombara-sa
 bina
SUMMARY:Torna il Giorno di Bacco a Palombara Sabina - Palombara Sabina - 20
  Novembre 22 00:00
DESCRIPTION:Cin cin!\n\nTorna il Giorno di Bacco a Palombara Sabina ed è f
 esta il 20 novembre.\n\nIn alto i calici\, si brinda nel Castello Savelli.
 \n\nIl brindisi è doppio. Il primo è perchè finalmente l'evento torna a
  rivivere in quest'angolo della campagna romana e laziale\, il secondo è 
 legato ai festeggiamenti del 18esimo anno del Giorno di Bacco. L'evento è
  diventato “maggiorenne”!\n\nQuale fuoriporta migliore per il tuo fine
  settimana del 20 novembre di quello che potresti trascorrere nel grazioso
  centro storico di Paolmbara Sabina\, tra le mura del Castello Savelli?\n\
 nDa 18 anni ormai un appuntamento imperdibile per gli amanti del buon bere
  e della convivialità. Torna domenica 20 novembre nelle sale del Castello
  Savelli\, a Palombara Sabina\, “Il giorno di Bacco” un percorso enoga
 stronomico che celebra la vendemmia e i prodotti tipici del nostro territo
 rio. Una giornata no stop\, dove dalle 10\,30 alle 20 con ingresso libero\
 , il vino si sposerà con musica\, cultura e piatti tipici locali che andr
 anno dalla bruschetta con olio extravergine d'oliva della Sabina Romana al
 le Pizze Fritte. Tipica pietanza Palombarese semplice da preparare e gusto
 sa da mangiare dolce oppure salata. Condite con sale o zucchero\, coperte 
 di nutella ci faranno tornare indietro a quando le pizze venivano fatte in
  casa dalle nonne.\n\nPer chi volesse fare incetta di tipicità locali per
  la dispensa di casa\, la Coldiretti porterà le più importanti aziende a
 gricole della zona\, direttamente a contatto con i consumatori:dalla terra
  alla tavola. Nella sala delle Giare del Castello Savelli è infatti previ
 sta la degustazione guidata dei migliori prodotti tipici delle terre sabin
 e.\n\nNella sala Ottaviani esposizione e degustazione dei principali vini 
 del Lazio e del centro Italia\, con una particolare attenzione ai vini del
  territorio del Parco Regionale dei Monti Lucretili.\n\nPer chi ama l'olio
 \, è previsto un evento nell'evento. L’associazione Socio-Culturale “
 La Palombella” presenta la Festa dell’Olio di Oliva Sabino nei giorni 
 19 e 20 novembre in Piazza Mazzini\, adiacente al Centro Storico\; degusta
 zione gratuita di bruschetta con olio novello\, ovviamente E.V.O. estratto
  da un mini frantoio collocato in loco.\n\nDurante la giornata (alle 12 e 
 alle 15) spettacoli e intrattenimento per grandi e piccini\, accompagnati 
 da figuranti che indosseranno abiti storici (a cura della giovane stilista
  Silvia Nobili) fino al Castello Savelli.\n\nDi portata in portata\, press
 o la “Locanda di Bacco” allestita nella Foresteria del Castello\, si p
 ranzerà dalle 12\,30 in poi gustando prodotti tipici della Sabina esaltat
 i dall’oro verde laziale\, l’olio extravergine di oliva. Il food sarà
  protagonista anche nelle vecchie carceri\, che si trasformeranno nel sugg
 estivo teatro delle degustazioni guidate dei migliori prodotti tipici loca
 li.\n\nCi sarà spazio anche per le visite guidate al borgo medievale e al
  Castello e per gli spettacoli per bambini con le bolle di sapone\, la mag
 ica statua vivente e le fate luminose. L’ingresso sarà libero e ai camp
 eristi sarà riservata\, già dal sabato pomeriggio un’area dedicata\, a
 diacente il piazzale del Campo Sportivo.\n\nInfo:\n\nData – 20 novembre\
 nLocalità: Palombara Sabina (Roma)\nsms a 3408505381\ninfo@fuoriporta.org
 \nwww.fuoriporta.org\nhttps://www.facebook.com/fuoriportaweb
ATTACH;FMTTYPE=image/jpeg:https://lazioeventi.com/wp-content/uploads/2022/
 11/loc.jpg
CATEGORIES:Sagre, Gastronomia e Tradizioni nel Lazio
LOCATION:Palombara Sabina\, Comune\, Palombara Sabina\, Roma\, Lazio\, Ital
 ia
GEO:42.0665;12.7649
X-APPLE-STRUCTURED-LOCATION;VALUE=URI;X-ADDRESS=Comune\, Palombara Sabina\,
  Roma\, Lazio\, Italia;X-APPLE-RADIUS=100;X-TITLE=Palombara Sabina:geo:42.
 0665,12.7649
END:VEVENT
BEGIN:VTIMEZONE
TZID:Europe/Rome
X-LIC-LOCATION:Europe/Rome
BEGIN:STANDARD
DTSTART:20221030T020000
TZOFFSETFROM:+0200
TZOFFSETTO:+0100
TZNAME:CET
END:STANDARD
END:VTIMEZONE
END:VCALENDAR