BEGIN:VCALENDAR
VERSION:2.0
PRODID:-//wp-events-plugin.com//7.2.3.1//EN
TZID:Europe/Rome
X-WR-TIMEZONE:Europe/Rome
BEGIN:VEVENT
UID:43884@lazioeventi.com
DTSTART;TZID=Europe/Rome;VALUE=DATE:20260307
DTEND;TZID=Europe/Rome;VALUE=DATE:20260309
DTSTAMP:20260226T161654Z
URL:https://lazioeventi.com/eventi/tra-anfore-e-calici
SUMMARY:Tra Anfore e Calici - Grottaferrata - 7 Marzo 26 00:00
DESCRIPTION: Nasce “Tra Anfore e Calici”\, un progetto innovativo che v
 ede il Comune di Monte Porzio Catone nel ruolo di capofila\, in stretta si
 nergia con i comuni di Frascati e Grottaferrata. L’iniziativa segna il d
 ebutto di un itinerario turistico integrato che punta a valorizzare le ecc
 ellenze del territorio tuscolano\, fondendo in un’unica esperienza la ri
 cchezza archeologica e le antiche tradizioni della viticoltura e dell’ol
 ivicoltura.\n\nIl progetto nasce con l’obiettivo di offrire ai visitator
 i un viaggio immersivo e consapevole\, lontano dai flussi del turismo di m
 assa\, per riscoprire l’identità dei Castelli Romani attraverso i suoi 
 simboli: l’olio extravergine\, il vino DOCG e le testimonianze storiche 
 della città di Tusculum e delle Ville Tuscolane.\n\n“Con ‘Tra Anfore 
 e Calici’ vogliamo creare un ponte concreto tra il nostro patrimonio mus
 eale e le realtà produttive del territorio”\, spiegano i promotori dell
 'iniziativa. “Monte Porzio Catone\, insieme a Frascati e Grottaferrata\,
  si propone come un distretto culturale e del gusto capace di raccontare u
 na storia millenaria che parte dalla terra e arriva alla tavola.”\n\nL
 ’itinerario\, completamente gratuito e a numero chiuso per garantire la 
 qualità dell’esperienza\, prevede un servizio navetta dedicato che coll
 egherà i tre poli principali dell’evento: il Museo dell’Olio di Villa
  Cavalletti\, le Scuderie Aldobrandini e il Museo del Vino.\n\nPROGRAMMA D
 ELL'EVENTO\n\nL'itinerario è strutturato per gruppi di massimo 30 parteci
 panti a turno. Sono previste due sessioni giornaliere (Mattina e Pomeriggi
 o).\n\nSessione Mattutina (09:30 – 13:30)\nOre 09:30 – Ritrovo presso 
 Villa Cavalletti (Grottaferrata):\nVisita guidata al Museo dell’Olio\, s
 imbolo della cultura agricola mediterranea.\nDegustazione tecnica di oli e
 xtravergine locali per scoprire le caratteristiche organolettiche e i meto
 di di produzione.\nA seguire: Trasferimento in navetta verso Frascati.\nOr
 e 11:00 – Museo Tuscolano – Scuderie Aldobrandini (Frascati):\nApprofo
 ndimento archeologico sulla storia dell’antica città di Tusculum.\nVisi
 ta alle Scuderie Aldobrandini con il Direttore Scientifico per esplorare i
 l legame tra paesaggio\, potere e cultura nelle Ville Tuscolane.\nA seguir
 e: Trasferimento in navetta verso Monte Porzio Catone.\nOre 12:00 – Muse
 o del Vino (Monte Porzio Catone):\nRacconto della secolare tradizione viti
 vinicola del borgo.\nDegustazione guidata di vini locali per approfondire 
 il legame tra il suolo vulcanico e i vitigni tipici.\nOre 13:30: Rientro i
 n navetta presso il punto di ritrovo (Villa Cavalletti).\n\nSessione Pomer
 idiana (15:30 – 19:30)\nOre 15:30: Inizio itinerario presso Villa Cavall
 etti (Grottaferrata) con visita e degustazione olio.\nOre 17:00: Visita al
  Museo Tuscolano (Frascati) e approfondimento archeologico.\nOre 18:00: Vi
 sita al Museo del Vino (Monte Porzio Catone) con degustazione guidata.\nOr
 e 19:30: Rientro in navetta presso Villa Cavalletti.\n\nINFORMAZIONI UTILI
 :\nCosto: L'evento è gratuito.\nPrenotazione: Obbligatoria (numero chiuso
 ).\nPunto di ritrovo: Museo dell’Olio di Villa Cavalletti\, Grottaferrat
 a (Hub logistico e parcheggio).\nTrasporti: Servizio navetta circolare inc
 luso per tutta la durata del tour.
ATTACH;FMTTYPE=image/jpeg:https://lazioeventi.com/wp-content/uploads/2026/
 02/anfore-calici.jpg
CATEGORIES:Arte e Cultura nel Lazio,Sagre, Gastronomia e Tradizioni nel
 Lazio
LOCATION:Grottaferrata\, Comune\, Grottaferrata\, Roma\, Lazio\, Italia
GEO:41.7916;12.6667
X-APPLE-STRUCTURED-LOCATION;VALUE=URI;X-ADDRESS=Comune\, Grottaferrata\, Ro
 ma\, Lazio\, Italia;X-APPLE-RADIUS=100;X-TITLE=Grottaferrata:geo:41.7916,1
 2.6667
END:VEVENT
BEGIN:VTIMEZONE
TZID:Europe/Rome
X-LIC-LOCATION:Europe/Rome
BEGIN:STANDARD
DTSTART:20251026T020000
TZOFFSETFROM:+0200
TZOFFSETTO:+0100
TZNAME:CET
END:STANDARD
END:VTIMEZONE
END:VCALENDAR