BEGIN:VCALENDAR
VERSION:2.0
PRODID:-//wp-events-plugin.com//7.2.3.1//EN
TZID:Europe/Rome
X-WR-TIMEZONE:Europe/Rome
BEGIN:VEVENT
UID:42225@lazioeventi.com
DTSTART;TZID=Europe/Rome:20250719T183000
DTEND;TZID=Europe/Rome:20250831T234500
DTSTAMP:20250805T081039Z
URL:https://lazioeventi.com/eventi/tra-le-vie-di-morolo
SUMMARY:Tra le vie di Morolo - Morolo - 19 Luglio 25 18:30
DESCRIPTION:Morolo 2025: un’estate da vivere tra sapori\, suoni e memorie
 !\n\nGrazie al contributo della @regionelazio.official \, il calendario de
 gli eventi è più ricco che mai: spettacoli e divertimento per tutte le e
 tà ti aspettano in Piazza Ernesto Biondi.\n\nA Morolo\, l’estate si acc
 ende ogni sera di magia\, musica e tradizione.\n\n#EstateMorolo2025\n\nMOR
 OLO IN MUSICA\nPiazza Ernesto Biondi\nSabato 9 Agosto 2025\nOre 21:30\nIl 
 Comune di Morolo è lieto di invitarvi a una serata all’insegna della mu
 sica e delle emozioni!\nIn Piazza Ernesto Biondi si esibirà la band Artca
 ffè Ensamble\, con lo spettacolo:\n"Un viaggio nella canzone napoletana"\
 nUn percorso musicale tra le melodie e le parole che hanno fatto la storia
  della tradizione partenopea\, reinterpretate con passione e maestria.\n\n
 \n\nDomenica 10 agosto 2025 • Ore 21:30\nAnfiteatro comunale – Morolo\
 n“Il Progresso” – commedia in dialetto morolano.\nScritto e diretto 
 da Mimmi Evangelisti\, a cura dell’APS I Saturnali.\nUn tuffo nella trad
 izione con la leggerezza del teatro paesano: tra ironia e valori antichi r
 ivivono le nostre radici\, in uno spettacolo pensato per la comunità.\n\n
ATTACH;FMTTYPE=image/jpeg:https://lazioeventi.com/wp-content/uploads/2025/
 08/tra-le-vie-morolo.jpg
CATEGORIES:Musica, Spettacoli e Danza nel Lazio,Sagre, Gastronomia e
 Tradizioni nel Lazio
LOCATION:Morolo\, Comune\, Morolo\, Frosinone\, Lazio\, Italia
GEO:41.638;13.1974
X-APPLE-STRUCTURED-LOCATION;VALUE=URI;X-ADDRESS=Comune\, Morolo\, Frosinone
 \, Lazio\, Italia;X-APPLE-RADIUS=100;X-TITLE=Morolo:geo:41.638,13.1974
END:VEVENT
BEGIN:VTIMEZONE
TZID:Europe/Rome
X-LIC-LOCATION:Europe/Rome
BEGIN:DAYLIGHT
DTSTART:20250330T030000
TZOFFSETFROM:+0100
TZOFFSETTO:+0200
TZNAME:CEST
END:DAYLIGHT
END:VTIMEZONE
END:VCALENDAR