BEGIN:VCALENDAR
VERSION:2.0
PRODID:-//wp-events-plugin.com//7.2.3.1//EN
TZID:Europe/Rome
X-WR-TIMEZONE:Europe/Rome
BEGIN:VEVENT
UID:31728@lazioeventi.com
DTSTART;TZID=Europe/Rome:20220721T213000
DTEND;TZID=Europe/Rome:20220721T230000
DTSTAMP:20220719T122610Z
URL:https://lazioeventi.com/eventi/tra-terra-e-mare
SUMMARY:Tra terra e mare - Tarquinia - 21 Luglio 22 21:30
DESCRIPTION:Le ricchezze archeologiche e i tesori naturalistici nel mar Tir
 reno\, lungo la costa da Santa Severa alla località Pian di Spille\, a Ta
 rquinia. Sarà questo il filo conduttore dell’incontro con il subacqueo 
 professionista Sergio Anelli e il direttore dell’Istituto di Oceanologia
  dell’Università degli studi della Tuscia Marco Marcelli\, in programma
  il 21 luglio\, alle 21\,30\, al parco Palombini\, al civico 25 di via del
 la Ripa\, nel centro storico di Tarquinia\, per il terzo appuntamento del 
 ciclo delle conferenze serali a ingresso libero dedicate all’archeologia
  subacquea “Tra terra e mare”\, promosso dalla Società Tarquiniense d
 ’Arte e Storia (STAS)\, con il sostegno del Ministero della Cultura (MIC
 ) e in collaborazione con l’Assonautica di Tarquinia “G. Maffei”.\n\
 nSergio Anelli aprirà l’incontro con un intervento dedicato “alle pes
 chiere e agli approdi dell’antico Tirreno”. “Analizzerò il fenomeno
  della costruzione di questi impianti di allevamenti ittico\, così numero
 si lungo la nostra costa\, esaminandone le premesse economiche\, le caratt
 eristiche strutturali e gli aspetti cultuali legati agli animali marini 
 – spiega il subacqueo -. La realizzazione di questi gioielli dell’inge
 gneria idraulica era di sicuro connessa alla presenza di grandi ville mari
 ttime\, delle quali aumentavano notevolmente il valore commerciale\, ma la
  cui manutenzione imponeva delle spese sostanziose.\n\nL’allevamento dei
  pesci aveva quindi anche il fine economico di sostenere\, con la vendita 
 dei prodotti\, i copiosi esborsi.  L’aspetto commerciale era sostenuto d
 alla presenza\, nelle immediate vicinanze delle peschiere\, di approdi pi
 ù o meno organizzati presso i quali trovavano accoglienza navi dedicate a
  questo traffico particolare. Naturalmente saranno descritte le principali
  peschiere della zona e sarà accennato come i minuziosi studi sulle corre
 nti litoranee locali\, necessari per il corretto funzionamento degli impia
 nti\, abbiano non poco influenzato il progetto e la nascita del porto di T
 raiano”.   \n\nIl professor Marco Marcelli parlerà invece del “valore
  degli ecosistemi marini della costa laziale”. “Il laboratorio di Ocea
 nologia Sperimentale ed Ecologia Marina (LOSEM) del Dipartimento di Scienz
 e Ecologiche e Biologiche (DEB) dell’Università degli Studi della Tusci
 a conduce dal 2001 attività di ricerca finalizzate allo studio degli ecos
 istemi marini del litorale laziale attraverso un approccio multidisciplina
 re ed integrato – afferma il docente -. Questo approccio ha portato alla
  messa a punto di un innovativo sistema osservativo costiero a scala regio
 nale\, che integra modelli numerici ad alta risoluzione\, early warning sy
 stems\, misure in situ\, stazioni fisse\, piattaforme autonome avanzate\, 
 sensori oceanografici a basso costo\, remote sensing e cartografia GIS.\n\
 nIl sistema osservativo sviluppato consente un’analisi di dettaglio e co
 stante nel tempo delle biocenosi e degli habitat marini nonché del valore
  dei servizi forniti dagli ecosistemi\, fornendo così un contributo fonda
 mentale per la pianificazione sostenibile degli spazi marittimi. L’anali
 si del capitale naturale costituisce\, infatti\, uno strumento sempre più
  importante a supporto della gestione dell'ambiente marino\, nell’ottica
  di rendere compatibili i molteplici usi delle risorse naturali\, spesso i
 n conflitto tra loro. L’area marina costiera di Civitavecchia è contrad
 distinta dalla presenza di quattro Siti di Importanza Comunitaria (SIC) i 
 quali ospitano un’elevata ricchezza ecologica di habitat prioritari pres
 enti nell’area (praterie di posidonia oceanica\, scogliere con biocenosi
  del coralligeno e cystoseira) oltre a specie protette e prioritarie (qual
 i pinna nobilis e corallium rubrum) inclusi nella direttiva habitat (92/43
 /EEC). Essa è\, inoltre\, sede di un ricco patrimonio archeologico caratt
 erizzato da numerosi siti costieri e beni archeologici sottomarini lungo t
 utta la costa”.\n\nTra i redattori nel 1998 del progetto del parco arche
 ologico sottomarino\, promosso dal Comune di Civitavecchia\, Sergio Anelli
  collabora all’attività di ricerca scientifica e divulgazione didattica
  con lo staff subacqueo dell’associazione “I Tirreni”\, e con l’Is
 tituto di Oceanografia dell’Università degli studi della Tuscia per gli
  studi propedeutici alla realizzazione di “un’area azzurra” lungo la
  costa di Civitavecchia. Ha pubblicato articoli di archeologia subacquea e
  navale sulla rivista “Archeologia viva”\, su “Immagini di Civitavec
 chia”\, sui “Quaderni dell’archivio storico” dell’assessorato al
 la cultura del Comune di Civitavecchia e sul libro “Rinvenimenti sottoma
 rini nel comprensorio di Civitavecchia”. È autore del volume “Palomba
 ri\, subacquei e mastri d’ascia a Civitavecchia”. Con la STAS ha colla
 borato alla redazione del bollettino “Tirrenikà” e a varie conferenze
  sull’archeologia subacquea.\n\nDocente di oceanografia biologica e ocea
 nografia applicata e dinamica degli ecosistemi presso l'Università degli 
 studi della Tuscia\, il professor Marco Marcelli ha fondato nel 2001\, e n
 e è responsabile\, il Laboratorio di Oceanologia Sperimentale ed Ecologia
  Marina (LOSEM) di Civitavecchia del Dipartimento di Scienze Ecologiche e 
 Biologiche (DEB). È membro del “Group of Senior Official for EuroMedite
 rranean cooperation in RTD (former MoCo)” e del forum internazionale fra
  i principali istituti di oceanografia del mondo "Partnership for Observat
 ion of the Global Ocean (POGO).\n
ATTACH;FMTTYPE=image/jpeg:https://lazioeventi.com/wp-content/uploads/2021/
 10/tarquinia.jpg
CATEGORIES:Arte e Cultura nel Lazio
LOCATION:Tarquinia\, Comune\, Tarquinia\, Viterbo\, Lazio\, Italia
GEO:42.2546;11.7584
X-APPLE-STRUCTURED-LOCATION;VALUE=URI;X-ADDRESS=Comune\, Tarquinia\, Viterb
 o\, Lazio\, Italia;X-APPLE-RADIUS=100;X-TITLE=Tarquinia:geo:42.2546,11.758
 4
END:VEVENT
BEGIN:VTIMEZONE
TZID:Europe/Rome
X-LIC-LOCATION:Europe/Rome
BEGIN:DAYLIGHT
DTSTART:20220327T030000
TZOFFSETFROM:+0100
TZOFFSETTO:+0200
TZNAME:CEST
END:DAYLIGHT
END:VTIMEZONE
END:VCALENDAR