BEGIN:VCALENDAR
VERSION:2.0
PRODID:-//wp-events-plugin.com//7.2.3.1//EN
TZID:Europe/Rome
X-WR-TIMEZONE:Europe/Rome
BEGIN:VEVENT
UID:37071@lazioeventi.com
DTSTART;TZID=Europe/Rome:20231104T170000
DTEND;TZID=Europe/Rome:20231105T183000
DTSTAMP:20230918T072400Z
URL:https://lazioeventi.com/eventi/trame-su-misura
SUMMARY:Trame su misura - Roma - 4 Novembre 23 17:00
DESCRIPTION:4 e 5 novembre\nTRAME SU MISURA \ncapretta giulietta e lupo rom
 eo – casa di paglia\, casa di legno  e casa di mattoni\nscritto e dirett
 o di Renzo Boldrini  \nCompagnia Giallo Mare Minimal Teatro di Empoli\nUti
 lizzando un originale  stile scenico che mixa narrazione teatrale\, disegn
 o e composizione grafica dal vivo\, videoproiezione ed animazione di figur
 e e oggetti\, si raccontano due storie. Il lupo e i sette capretti\, ripen
 sata in chiave ironica immaginando sette caprette\, sorelle di particolare
  bellezza\, fra le quali spicca Giulietta la capretta nera che grazie alla
  sua sfumatura di colore eviterà che il lupo Romeo divori le sette sorell
 e: lui rimane abbagliato da Giulietta\, da tanta bellezza decidendo di man
 giare solo la capretta nera…ma con gli occhi!!! Una fiaba dove trionfa l
 ’amore a dispetto delle differenze di colore\, aspetto e provenienza.\nN
 e i tre porcellini\, il lupo\, come se conoscesse già il copione della st
 oria\, inizia il suo attacco dalla casa di mattoni\, passando senza incide
 nti dal camino\, per distruggere poi la casa di legno e\, dopo aver gustat
 o i due primi fratelli\, dirigersi  verso la casa di paglia del più picco
 lo dei porcelli. Ma ecco il colpo di scena: il porcellino non ha paura e s
 fida il lupo a chi ha più fame. Chi mangia di più nel bosco fra il lupo 
 e il maiale?  \ntecnica: teatro d’attore – immagini dal vivo  \netà: 
 3 - 8 anni \nParole chiave: fiabe – uso poetico delle tecnologia\n\nTEAT
 RO VERDE (dal 1979 il teatro dei bambini e dei ragazzi di Roma)\nCirc.ne G
 ianicolense\, 10 (di fronte alla stazione Trastevere) Roma\nCome raggiunge
 rci: tram 3 - 8 / bus H - 719 - 773 - 780 - 781 - 228 - 170- 786 - 766 - 
 774 - 871\ntreni FM 1 (Orte - Fiumicino aeroporto)\; FM 3 (Roma - Viterbo)
 \; FM 5 (Roma - Civitavecchia)\n \nSpettacoli: sabato\, domenica e festi
 vi ore 17 e su richiesta ore 15.00 e/o ore 18.30\nBiglietti: è attiva la
  biglietteria on line su www.teatroverde.it\ningresso intero € 11\,00 r
 idotti €10\,00 \nGreenCard: carnet/abbonamento da 10 spettacoli €100\
 ,00 – 15 spettacoli €145\,00 – 20 spettacoli €180\,00\n \nper ent
 i\, cral e associazioni\nSpettacoli con animazioni in giorni e orari da co
 ncordare.\n \nBotteghino\, informazioni e prenotazioni: telefono 06.5882
 034 - teatroverderoma@gmail.com     \ndal lunedì al sabato dalle or
 e 9.00 alle ore 18.00\ndomenica e festivi dalle ore 11.00 alle ore 19.00 
ATTACH;FMTTYPE=image/jpeg:https://lazioeventi.com/wp-content/uploads/2023/
 09/teatro-verde.jpg
CATEGORIES:Musica, Spettacoli e Danza nel Lazio
LOCATION:Roma\, Via Leopardi\, Roma\, Roma\, Lazio\, Italia
GEO:41.8942;12.5017
X-APPLE-STRUCTURED-LOCATION;VALUE=URI;X-ADDRESS=Via Leopardi\, Roma\, Roma\
 , Lazio\, Italia;X-APPLE-RADIUS=100;X-TITLE=Roma:geo:41.8942,12.5017
END:VEVENT
BEGIN:VTIMEZONE
TZID:Europe/Rome
X-LIC-LOCATION:Europe/Rome
BEGIN:STANDARD
DTSTART:20231029T020000
TZOFFSETFROM:+0200
TZOFFSETTO:+0100
TZNAME:CET
END:STANDARD
END:VTIMEZONE
END:VCALENDAR