BEGIN:VCALENDAR
VERSION:2.0
PRODID:-//wp-events-plugin.com//7.2.3.1//EN
TZID:Europe/Rome
X-WR-TIMEZONE:Europe/Rome
BEGIN:VEVENT
UID:27218@lazioeventi.com
DTSTART;TZID=Europe/Rome:20200810T184500
DTEND;TZID=Europe/Rome:20200810T233000
DTSTAMP:20200804T102209Z
URL:https://lazioeventi.com/eventi/tramonto-e-stelle-cadenti-sul-monte-acu
 ziano
SUMMARY:Tramonto e stelle cadenti sul Monte Acuziano - Fara in Sabina - 10 
 Agosto 20 18:45
DESCRIPTION:Meravigliosa escursione al crepuscolo\, che ci permetterà di r
 aggiungere la panoramica vetta del monte Acuziano\, dove si innalzano i ru
 deri dell’abbazia abbandonata di San Martino\, uno dei luoghi più sugge
 stivi ed ammalianti della Sabina. Ed è da
ATTACH;FMTTYPE=image/jpeg:https://lazioeventi.com/wp-content/uploads/2020/
 08/STELLE-CADENTI.jpg
CATEGORIES:Sport, Tempo Libero e Divertimento nel Lazio
LOCATION:Fara in Sabina\, Comune\, Fara in Sabina\, Rieti\, Lazio\, Italia
GEO:42.2099;12.7291
X-APPLE-STRUCTURED-LOCATION;VALUE=URI;X-ADDRESS=Comune\, Fara in Sabina\, R
 ieti\, Lazio\, Italia;X-APPLE-RADIUS=100;X-TITLE=Fara in Sabina:geo:42.209
 9,12.7291
END:VEVENT
BEGIN:VTIMEZONE
TZID:Europe/Rome
X-LIC-LOCATION:Europe/Rome
BEGIN:DAYLIGHT
DTSTART:20200329T030000
TZOFFSETFROM:+0100
TZOFFSETTO:+0200
TZNAME:CEST
END:DAYLIGHT
END:VTIMEZONE
END:VCALENDAR