BEGIN:VCALENDAR
VERSION:2.0
PRODID:-//wp-events-plugin.com//7.2.3.1//EN
TZID:Europe/Rome
X-WR-TIMEZONE:Europe/Rome
BEGIN:VEVENT
UID:37095@lazioeventi.com
DTSTART;TZID=Europe/Rome:20231116T210000
DTEND;TZID=Europe/Rome:20231119T210000
DTSTAMP:20230918T114148Z
URL:https://lazioeventi.com/eventi/trattami-bene
SUMMARY:Trattami bene - Roma - 16 Novembre 23 21:00
DESCRIPTION:Dal 16 al 19 novembre un altro bel ritorno a Teatrosophia. Quel
 lo del noto autore Antonio Mocciola con il suo TRATTAMI BENE (Marlon\, Jam
 es\, l’amore\, la violenza). I due protagonisti sono interpretati da: Si
 mone Sabia e Manuel Novarini. La regia è di Emilia Miscio. \nAl riparo da
 ll’ipocrisia delle major che ne determinavano le vite e le carriere\, du
 e star assolute\, Marlon Brando e James Dean si ritagliano nell’intimit
 à dell’appartamento di Brando un rapporto di amore e passione fondato s
 ul sadomasochismo. Sfogando le frustazioni date da un lavoro appagante ma 
 anche totalizzante\, i due ragazzi si abbandonano – senza maschere – a
  ogni eccesso\, in cui i ruoli sono ben definiti. Basato su una storia ver
 a “Trattami bene” è ambientato nel 1954\, ma nulla è cambiato. Molti
  artisti\, stritolati dallo star system\, sono stati costretti a recitare 
 anche nella vita privata. Fino alle estreme conseguenze.\n\nTeatrosophia\n
 via della Vetrina 7\nTel: 06 68801089 / 353 3925682 \nMail: info@teatrosop
 hia.com\nSito: www.teatrosophia.com\nFb: https://www.facebook.com/teatroso
 phia2018/\n
ATTACH;FMTTYPE=image/jpeg:https://lazioeventi.com/wp-content/uploads/2023/
 09/Teatro01.jpg
CATEGORIES:Musica, Spettacoli e Danza nel Lazio
LOCATION:Roma\, Via Leopardi\, Roma\, Roma\, Lazio\, Italia
GEO:41.8942;12.5017
X-APPLE-STRUCTURED-LOCATION;VALUE=URI;X-ADDRESS=Via Leopardi\, Roma\, Roma\
 , Lazio\, Italia;X-APPLE-RADIUS=100;X-TITLE=Roma:geo:41.8942,12.5017
END:VEVENT
BEGIN:VTIMEZONE
TZID:Europe/Rome
X-LIC-LOCATION:Europe/Rome
BEGIN:STANDARD
DTSTART:20231029T020000
TZOFFSETFROM:+0200
TZOFFSETTO:+0100
TZNAME:CET
END:STANDARD
END:VTIMEZONE
END:VCALENDAR