BEGIN:VCALENDAR
VERSION:2.0
PRODID:-//wp-events-plugin.com//7.2.3.1//EN
TZID:Europe/Rome
X-WR-TIMEZONE:Europe/Rome
BEGIN:VEVENT
UID:43527@lazioeventi.com
DTSTART;TZID=Europe/Rome:20260110T093000
DTEND;TZID=Europe/Rome:20260110T150000
DTSTAMP:20260105T163712Z
URL:https://lazioeventi.com/eventi/trek-urbano-intorno-a-san-pietro
SUMMARY:Trek urbano intorno a San Pietro - Roma - 10 Gennaio 26 09:30
DESCRIPTION:Sabato trek per scoprire la nuova ciclopedonale di San Pietro 
 con partenza da Monte Ciocci e che percorreremo sino alla passeggiata del 
 Gelsomino. Andremo poi a scoprire gli angoli insoliti e curiosi intorno a
 lla basilica di San Pietro. Sarà infatti un susseguirsi di vicoli\, scale
 tte scorci panoramici\, pezzi di campagna nel cuore di Roma  Vedremo anc
 he la ferrovia più corta al mondo (1 km scarso)  e la casa dove hanno g
 irato alcune scene del film diretto da Pasolini “Mamma Roma”. Scoprir
 emo la chiesa ortodossa piu' grande di Roma e d'Italia\nE da ultimo ammir
 eremo l’effetto ottico del cupolone da una strada panoramica. Non mancat
 e\nKm 14 circa Dislivello 250 m\nAppuntamento: h 9.30 stazione Metro Valle
  Aurelia (davanti edicola)\n\nCOSA PORTARE: scarponcini da trekking (morbi
 di e non rigidi) giacca antivento\; vestirsi a strati\; acqua a sufficienz
 a e pranzo al sacco .. il caffè e i dolcetti li offriamo noi \n\nQUOTA D
 I PARTECIPAZIONE: \n15 € – Trek riservato ai soci dell’Ass. Nomos T
 rek\nPer i non tesserati inviare comunicazione via tel/sms etc… con i pr
 opri dati (Nome\, cognome\, luogo\, data di nascita e C.F.) entro le 18 de
 l giorno precedente l’escursione\n\nINFORMAZIONI e PRENOTAZIONI: (prefer
 ibilmente whatsapp)\nMarco Marini Cell 3478247257 \nGuida Ambientale escu
 rsionistica\nPer ricevere aggiornamenti sull’evento e vedere tutte le es
 cursioni:\n1) Mettere “parteciperò”\n2) Mettere “mi piace” alla p
 agina Nomos Trek – Escursioni e Trekking e cliccare sul tasto “segui
 ” – https://www.facebook.com/NomosTrek\n3) iscriversi al gruppo pubbl
 ico Nomos Trek- Associazione Escursionistica –https://www.facebook.com/g
 roups/341852695915250\n4) Chat Telegram https://t.me/+5JYvtRdqIH9jZDJk\n5
 ) https://www.tiktok.com/@nomostrek\n6) https://www.instagram.com/nomost
 rekescursioni/?hl=it\n7) https://twitter.com/nomos_trek\n Visita il sito
 : www.nomostrek.com\n9) https://whatsapp.com/channel/0029VaD7W1hGZNCxYwL
 H5C1Y\n10) https://www.threads.net/@marco71marini\n11) https://www.messe
 nger.com/channel/NomosTrek\n12) https://t.me/nomostrekescursioni\nL'inizi
 ativa è riservata ai soci in regola con l'iscrizione relativa all'anno 20
 26 ed in possesso della relativa tessera. Le Guide si riservano il diritto
  insindacabile di modificare il programma stabilito in caso di condizioni 
 meteorologiche avverse tali da rendere pericoloso l'itinerario\, in caso d
 i impraticabilità di un sentiero\, in caso di impossibilità di un partec
 ipante a continuare l'escursione. Si prega inoltre di avvertire gli accomp
 agnatori della presenza di eventuali patologie\, o di problematiche che po
 trebbero manifestarsi nel corso dell'escursione\, grazie per la collaboraz
 ione.
ATTACH;FMTTYPE=image/jpeg:https://lazioeventi.com/wp-content/uploads/2026/
 01/a6f8ca15-2c9f-436c-a171-aa949436ad3c.jpg
CATEGORIES:Sport, Tempo Libero e Divertimento nel Lazio
LOCATION:Roma\, Via Leopardi\, Roma\, Roma\, Lazio\, Italia
GEO:41.8942;12.5017
X-APPLE-STRUCTURED-LOCATION;VALUE=URI;X-ADDRESS=Via Leopardi\, Roma\, Roma\
 , Lazio\, Italia;X-APPLE-RADIUS=100;X-TITLE=Roma:geo:41.8942,12.5017
END:VEVENT
BEGIN:VTIMEZONE
TZID:Europe/Rome
X-LIC-LOCATION:Europe/Rome
BEGIN:STANDARD
DTSTART:20251026T020000
TZOFFSETFROM:+0200
TZOFFSETTO:+0100
TZNAME:CET
END:STANDARD
END:VTIMEZONE
END:VCALENDAR