BEGIN:VCALENDAR
VERSION:2.0
PRODID:-//wp-events-plugin.com//7.2.3.1//EN
TZID:Europe/Rome
X-WR-TIMEZONE:Europe/Rome
BEGIN:VEVENT
UID:42649@lazioeventi.com
DTSTART;TZID=Europe/Rome:20251012T081500
DTEND;TZID=Europe/Rome:20251012T180000
DTSTAMP:20251003T104312Z
URL:https://lazioeventi.com/eventi/trekking-a-camposecco-le-pianure-del-si
 lenzio
SUMMARY:Trekking a Camposecco - "Le Pianure del Silenzio" - Cervara di Roma
  - 12 Ottobre 25 08:15
DESCRIPTION:Unisciti a noi per questo suggestivo itinerario nel Parco Regio
 nale dei Monti Simbruini.\n\nVieni a scoprire le meraviglie ed i panorami 
 di questa terra ai confini tra Lazio ed Abruzzo\, nella magica atmosfera d
 ell'autunno.\n\nCi aspetta un percorso all'interno dell'altopiano che domi
 na la valle dell'Aniene.\nAttraverseremo densi boschi di faggio e le carat
 teristiche pianure carsiche di questa zona.\n\nSe saremo fortunati\, potre
 mmo ammirare i colori autunnali degli alberi (Foliage) e godere di questo 
 incredibile spettacolo.\n\nScopriremo insieme la storia naturale di questi
  luoghi\, racconteremo le vite degli uomini che qui hanno vissuto e da qui
  sono passati.\n\nImmersi nel silenzio\, avremo la possibilità di tornare
  in contatto con un territorio più vero ed autentico. Un'esperienza rigen
 erante: un antidoto contro lo stress\, il rumore e il caos della grande ci
 ttà.\n\nChe stai aspettando!\nL'autunno sta lanciando il suo richiamo...!
 \n\nIscrizioni aperte fino a Sabato 11 Ottobre 2025 ore 12:00\n\n CLICCA Q
 UI PER INFO COMPLETE e PRENOTAZIONE OBBLIGATORIA
ATTACH;FMTTYPE=image/jpeg:https://lazioeventi.com/wp-content/uploads/2025/
 10/Trekking-Camposecco-GreenTrek.it-12-10-2025.jpg
CATEGORIES:Sport, Tempo Libero e Divertimento nel Lazio
LOCATION:Cervara di Roma\, Comune\, Cervara di Roma\, Roma\, 00020\, Lazio\
 , Italia
GEO:41.988336;13.068261
X-APPLE-STRUCTURED-LOCATION;VALUE=URI;X-ADDRESS=Comune\, Cervara di Roma\, 
 Roma\, 00020\, Lazio\, Italia;X-APPLE-RADIUS=100;X-TITLE=Cervara di Roma:g
 eo:41.988336,13.068261
END:VEVENT
BEGIN:VTIMEZONE
TZID:Europe/Rome
X-LIC-LOCATION:Europe/Rome
BEGIN:DAYLIGHT
DTSTART:20250330T030000
TZOFFSETFROM:+0100
TZOFFSETTO:+0200
TZNAME:CEST
END:DAYLIGHT
END:VTIMEZONE
END:VCALENDAR