BEGIN:VCALENDAR
VERSION:2.0
PRODID:-//wp-events-plugin.com//7.2.3.1//EN
TZID:Europe/Rome
X-WR-TIMEZONE:Europe/Rome
BEGIN:VEVENT
UID:30840@lazioeventi.com
DTSTART;TZID=Europe/Rome:20220522T090000
DTEND;TZID=Europe/Rome:20220522T160000
DTSTAMP:20220507T055300Z
URL:https://lazioeventi.com/eventi/trekking-nel-bosco-macchia-grande-di-ma
 nziana-2
SUMMARY:Ciclotrekking nei Boschi - Trevignano Romano - 22 Maggio 22 09:00
DESCRIPTION:Domenica 22 maggio Yogarmonia – Walking e Trekking organizza 
 un’escursione sulla Ciclovia dei boschi\, che collega Trevignano Romano 
 con Oriolo\, attraversando un territorio ampio che comprende anche Bassano
  romano e Sutri. Si attraverseranno faggete\, noccioleti e le vedute panor
 amiche sul lago di Bracciano faranno capolino di tanto in tanto deliziando
  la nostra vista.\n\nAll’interno di questo itinerario ci sarà la spetta
 colare scoperta di un vero e proprio fosso sconosciuto ai più\, che con p
 areti mozzafiato lascerà di sicuro senza fiato e un ponte vecchio di 500 
 anni.\n\nInformazioni\nDifficoltà: media\nDislivelli totali: 300 m\nLungh
 ezza percorso: 16 km circa\nTempo: 6 ore comprese le pause\nConsigliato an
 che a bambini e ragazzi\n\nCosto escursione: 10 euro. Costo tessera FIE an
 nuale con assicurazione 16 euro\, giornaliera 5 euro.\n\nCosa portare\nZai
 no da trekking\, acqua 1\,5 l\, pranzo al sacco\, giacca a vento o k-way\,
  mantella\, scarpe da trekking obbligatorie\, bastoncini telescopici facol
 tativi. Importante: scarpe comode e di ricambio\, mascherina anticovid\, g
 el igienizzante mani\, kit medicine personali.\n\nContatti\nGiuseppe:338-8
 150537 – giuseppemiccoli12@gmail.com\nRaffaele: 339-369400\nVincenzo: 34
 0-0607856\n\nI responsabili in base a eventuali cambiamenti atmosferici si
  riservano il diritto di annullare o modificare l’escursione.
ATTACH;FMTTYPE=image/jpeg:https://lazioeventi.com/wp-content/uploads/2022/
 05/Ciclovia-boschi-trevignano.jpg
CATEGORIES:Sport, Tempo Libero e Divertimento nel Lazio
LOCATION:Trevignano Romano\, Comune di Trevignano Romano\, Trevignano Roman
 o\, Roma\, Lazio\, Italia
GEO:42.1562;12.2463
X-APPLE-STRUCTURED-LOCATION;VALUE=URI;X-ADDRESS=Comune di Trevignano Romano
 \, Trevignano Romano\, Roma\, Lazio\, Italia;X-APPLE-RADIUS=100;X-TITLE=Tr
 evignano Romano:geo:42.1562,12.2463
END:VEVENT
BEGIN:VTIMEZONE
TZID:Europe/Rome
X-LIC-LOCATION:Europe/Rome
BEGIN:DAYLIGHT
DTSTART:20220327T030000
TZOFFSETFROM:+0100
TZOFFSETTO:+0200
TZNAME:CEST
END:DAYLIGHT
END:VTIMEZONE
END:VCALENDAR