BEGIN:VCALENDAR
VERSION:2.0
PRODID:-//wp-events-plugin.com//7.2.3.1//EN
TZID:Europe/Rome
X-WR-TIMEZONE:Europe/Rome
BEGIN:VEVENT
UID:29102@lazioeventi.com
DTSTART;TZID=Europe/Rome:20211022T210000
DTEND;TZID=Europe/Rome:20211220T224500
DTSTAMP:20211109T120546Z
URL:https://lazioeventi.com/eventi/trend-nuove-frontiere-della-scena-brita
 nnica
SUMMARY:Trend Nuove frontiere della scena britannica - Roma - 22 Ottobre 21
  21:00
DESCRIPTION:Le maggiori tragedie globali che incombono su di noi sono quell
 e climatiche e pandemiche\, e da parte sua il teatro è sempre più in gra
 do di monitorare fenomeni di ieri e di oggi altrimenti declinati come le i
 nstabilità relazionali\, le oscillazioni economiche\, i bipolarismi carat
 teriali\, le virtualità manipolatrici\, fino a trarre maggiori contenuti 
 dalle disforie di genere e dalle culture seriali.\n\nCe ne rendiamo conto 
 con i quattordici testi scelti per la XX edizione di "Trend Nuove frontier
 e della scena britannica".\n\nLe variabili che influiranno sulle nostre so
 cietà rispondono anche a un quadro di netti mutamenti umani\, tecnologici
 \, di sistema. Gli scarti tra normodotati e fluttuanti vanno diffondendosi
  a vantaggio di una ininfluenza binaria\, etica\, anatomica.\n\nScorrendo 
 il programma\, l'allergia ai canoni e ai controlli si fa spazio nelle sino
 ssi di "Girl in the Machine" di Stef Smith\, "Beyond Caring" di Alexander 
 Zeldin\, "A Number" di Caryl Churchill\, "Playing Sandwiches" di Alan Benn
 ett. Drammaturgie fondate su indeterminazioni o varianti identitarie sono 
 quelle di "Play House" di Martin Crimp\, "Love and Understanding" di Joe P
 enhall\, "Snowflake" di Mike Bartlett\, "Stitching" di Anthony Neilson\, "
 Three Kings" di Stephen Beresford\, "Chef" di Sabrina Mahfouz\, "Coriolanu
 s Vanishes" di David Leddy\, "Tarantula" di Philip Ridley.\n\nApprofondime
 nti non convenzionali e nuovi approcci al maschile e al femminile li inter
 cettiamo in "Scenes with Girls" di Miriam Battye\, in "God's New Frock" di
  Jo Clifford. Risolutivo è il sostegno della Regione Lazio\, e del Comune
  di Roma. I lavori inglesi sono quest'anno affidati a Giacomo Bisordi\, Al
 essandro Federico\, Arturo Cirillo\, Massimo Di Michele\, Luca Mazzone\, M
 aurizio M. Pepe\, Serena Sinigaglia\, Francesco Bonomo\, Carlo Emilio Leri
 ci\, Martina Glenda\, Mauro Lamanna\, Stefano Patti\, Francesco Montanari.
 \n\nMODALITÀ D’INGRESSO\n\nOrario spettacoli tutte le sere alle ore 21.
 00\n\nBiglietto Intero €13 - Biglietto Ridotto (under 26 e over 65) €5
ATTACH;FMTTYPE=image/jpeg:https://lazioeventi.com/wp-content/uploads/2021/
 11/trend.jpg
CATEGORIES:Musica, Spettacoli e Danza nel Lazio
LOCATION:Roma\, Via Leopardi\, Roma\, Roma\, Lazio\, Italia
GEO:41.8942;12.5017
X-APPLE-STRUCTURED-LOCATION;VALUE=URI;X-ADDRESS=Via Leopardi\, Roma\, Roma\
 , Lazio\, Italia;X-APPLE-RADIUS=100;X-TITLE=Roma:geo:41.8942,12.5017
END:VEVENT
BEGIN:VTIMEZONE
TZID:Europe/Rome
X-LIC-LOCATION:Europe/Rome
BEGIN:DAYLIGHT
DTSTART:20210328T030000
TZOFFSETFROM:+0100
TZOFFSETTO:+0200
TZNAME:CEST
END:DAYLIGHT
BEGIN:STANDARD
DTSTART:20211031T020000
TZOFFSETFROM:+0200
TZOFFSETTO:+0100
TZNAME:CET
END:STANDARD
END:VTIMEZONE
END:VCALENDAR