BEGIN:VCALENDAR
VERSION:2.0
PRODID:-//wp-events-plugin.com//7.2.3.1//EN
TZID:Europe/Rome
X-WR-TIMEZONE:Europe/Rome
BEGIN:VEVENT
UID:36268@lazioeventi.com
DTSTART;TZID=Europe/Rome:20230729T174500
DTEND;TZID=Europe/Rome:20230729T200000
DTSTAMP:20230707T070206Z
URL:https://lazioeventi.com/eventi/trenino-delle-meraviglie-3
SUMMARY:Trenino delle Meraviglie - Tarquinia - 29 Luglio 23 17:45
DESCRIPTION:Una nuova opportunità di cui poter approfittare per scoprire T
 arquinia\, la sue storie – che dall’antichità etrusca arrivano al fas
 cino medievale e ai giorni nostri –\, i suoi personaggi\, i suoi misteri
  e il suo territorio immerso nella natura.\n\nDomani\, e poi sabato 22 e 2
 9 luglio\, arrivano le prime visite guidate itineranti con il Trenino dell
 e Meraviglie\, che scalda i motori per condurre i suoi passeggeri lungo le
  strade della città\, dalle sue torri al mare sino all’antico porto di 
 Gravisca e alle Saline.\n\nOrganizzati da My Love Italy\, in collaborazion
 e con la guida turistica Claudia Moroni e  patrocinati dal Comune di Tarqu
 inia\, gli appuntamenti di questo mese – cui faranno seguito le ulterior
 i date del 12 e 19 agosto – prevedono il ritrovo alla Barriera San Giust
 o alle ore 17.45 per iniziare poi alle ore 18.00 un viaggio di due ore con
  spostamenti a bordo del trenino turistico.\n\nPer ogni informazione\, è 
 possibile contattare My Love Italy al 327 730 9039.
ATTACH;FMTTYPE=image/jpeg:https://lazioeventi.com/wp-content/uploads/2023/
 07/trenino-meragiglie.jpg
CATEGORIES:Arte e Cultura nel Lazio
LOCATION:Tarquinia\, Comune\, Tarquinia\, Viterbo\, Lazio\, Italia
GEO:42.2546;11.7584
X-APPLE-STRUCTURED-LOCATION;VALUE=URI;X-ADDRESS=Comune\, Tarquinia\, Viterb
 o\, Lazio\, Italia;X-APPLE-RADIUS=100;X-TITLE=Tarquinia:geo:42.2546,11.758
 4
END:VEVENT
BEGIN:VTIMEZONE
TZID:Europe/Rome
X-LIC-LOCATION:Europe/Rome
BEGIN:DAYLIGHT
DTSTART:20230326T030000
TZOFFSETFROM:+0100
TZOFFSETTO:+0200
TZNAME:CEST
END:DAYLIGHT
END:VTIMEZONE
END:VCALENDAR