BEGIN:VCALENDAR
VERSION:2.0
PRODID:-//wp-events-plugin.com//7.2.3.1//EN
TZID:Europe/Rome
X-WR-TIMEZONE:Europe/Rome
BEGIN:VEVENT
UID:36266@lazioeventi.com
DTSTART;TZID=Europe/Rome:20230916T174500
DTEND;TZID=Europe/Rome:20230916T200000
DTSTAMP:20230912T114201Z
URL:https://lazioeventi.com/eventi/trenino-delle-meraviglie
SUMMARY:Trenino delle Meraviglie - Tarquinia - 16 Settembre 23 17:45
DESCRIPTION:Come un bis a uno spettacolo: una straordinaria occasione per v
 ivere un’esperienza apprezzata e piacevole. \n\nA Tarquinia torna il Tre
 nino delle Meraviglie\, la visita guidata itinerante per turisti e residen
 ti per vivere in maniera diversa e approfondita i tesori dalla città\, da
 i segreti del centro storico alle bellezze naturalistiche del Lido e delle
  Saline: terminato il programma di visite inizialmente programmato\, ecco 
 questa “special edition” a sorpresa per chi\, alle porte dell’autunn
 o\, vuol vivere in modo particolare la scoperta della città.\n\nNel pross
 imo weekend\, e in particolare sabato 16 settembre\, con My Love Italy i v
 isitatori potranno di nuovo salire a bordo del trenino e vivere la città 
 etrusca a tutto tondo\, dalla storia all’arte alla natura\, con una visi
 ta guidata itinerante per vivere la bellezza della Tarquinia estiva dalle 
 18 sino al tramonto.\n\nLe torri\, il belvedere\, gli scorci tipici del ce
 ntro storico medievale ma anche il fascino del mare e la bellezza della Ri
 serva Naturale delle Saline: un tour che\, grazie alla sapiente voce narra
 nte della guida turistica Claudia Moroni\, è un viaggio di scoperta verso
  storie\, personaggi\, aneddoti e segreti della città.\n\nUna curiosa opp
 ortunità per i turisti in visita ma anche la possibilità\, per i tarquin
 iesi\, di approfondire la storia della propria città\, scoprendone dettag
 li magari sconosciuti\, storie particolari: per tutti\, comunque\, la sugg
 estione di una città dalla storia sconfinata.\n\nIl programma\, realizzat
 o con il patrocinio del Comune di Tarquinia e in collaborazione con la gui
 da turistica Claudia Moroni ed Eusepi Trasporti\, prevede il ritrovo alla 
 Barriera San Giusto alle 17 e 45 per iniziare un viaggio di due ore – da
 lle 18 alle 20 – alla scoperta dell’infinita storia della città\, dei
  suoi personaggi\, luoghi\, leggende e misteri.\n\nPer la prevendita – p
 rezzo a persona per adulti di euro 15\,00\, per i ragazzi da 4 a 11 anni e
 uro 5\,00\, gratuito da 0 a 3 anni – ci si può rivolgere all’Infopoin
 t di Tarquinia\, presso la Sala capitolare degli Agostiniani\, alla Barrie
 ra San Giusto\, contattabile al numero 0766 849 282. \n\nPer ogni informaz
 ione\, è inoltre possibile contattare My Love Italy al 327 730 9039.
ATTACH;FMTTYPE=image/jpeg:https://lazioeventi.com/wp-content/uploads/2023/
 07/trenino-meraviglie.jpg
CATEGORIES:Arte e Cultura nel Lazio
LOCATION:Tarquinia\, Comune\, Tarquinia\, Viterbo\, Lazio\, Italia
GEO:42.2546;11.7584
X-APPLE-STRUCTURED-LOCATION;VALUE=URI;X-ADDRESS=Comune\, Tarquinia\, Viterb
 o\, Lazio\, Italia;X-APPLE-RADIUS=100;X-TITLE=Tarquinia:geo:42.2546,11.758
 4
END:VEVENT
BEGIN:VTIMEZONE
TZID:Europe/Rome
X-LIC-LOCATION:Europe/Rome
BEGIN:DAYLIGHT
DTSTART:20230326T030000
TZOFFSETFROM:+0100
TZOFFSETTO:+0200
TZNAME:CEST
END:DAYLIGHT
END:VTIMEZONE
END:VCALENDAR