BEGIN:VCALENDAR
VERSION:2.0
PRODID:-//wp-events-plugin.com//7.2.3.1//EN
TZID:Europe/Rome
X-WR-TIMEZONE:Europe/Rome
BEGIN:VEVENT
UID:41914@lazioeventi.com
DTSTART;TZID=Europe/Rome;VALUE=DATE:20250706
DTEND;TZID=Europe/Rome;VALUE=DATE:20250708
DTSTAMP:20250623T090835Z
URL:https://lazioeventi.com/eventi/trevinano-ri-wind
SUMMARY:Trevinano Ri-Wind - Acquapendente - 6 Luglio 25 00:00
DESCRIPTION:Nel cuore dell’Alta Tuscia\, a Trevinano – minuscola frazio
 ne del Comune di Acquapendente (VT)\, con appena 120 abitanti – con il 2
 025 prende forma un progetto di narrazione e riappropriazione creativa che
  mette in dialogo tradizione e contemporaneità\, linguaggi e persone\, ge
 nerazioni e territori. Un progetto che attraversa arte contemporanea\, mus
 ica e poesia: Trevinano RI-WIND.\n\nUn progetto di rigenerazione culturale
  – tra le iniziative finanziate dal Ministero della Cultura nell’ambit
 o del PNRR “Attrattività dei borghi storici” – che parte da un luog
 o-soglia\, e che come tale si presenta: Trevinano\, da Trivium\, è incroc
 io\, è incontro. Un crocevia geografico tra Lazio\, Umbria e Toscana che 
 diventa oggi anche crocevia creativo\, emotivo\, sociale. Una rinascita ch
 e passa dalla cultura\, dalla creatività\, dalla capacità laterale degli
  artisti di immaginare nuovi modi di vivere lo spazio e il tempo di comuni
 tà.\n\nUn anno di eventi\, incontri\, laboratori\, mostre e restituzioni 
 animerà il borgo e l’intera Tuscia tra il 2025 e il 2026\, abbracciando
  poesia\, musica\, teatro e arti visive.\n\nAd aprire il programma\, la se
 zione dedicata alla parola in forma poetica e musicale: Quando la banda pa
 ssò\, a cura di Oscar Pizzo e Paolo Dalla Sega. Dopo il debutto il 25 mag
 gio a Villa Torlonia\, Roma\, nell’ambito de Il Parco dei Poeti – Spaz
 io in versi del Teatro di Roma\, il progetto prosegue con tre nuovi appunt
 amenti: il 6 e 7 luglio a Trevinano per la Festa dell’Aia e la prima set
 timana di agosto\, sempre in Tuscia.\n\nUn reading-concerto inedito che tr
 asforma i luoghi in palcoscenici di una grande scena condivisa\, facendo r
 isuonare la voce poetica e musicale dei borghi dell’Alta Tuscia: bande t
 radizionali e suoni contemporanei\, slam poetry e poesia rurale si fondono
  in una narrazione corale e originale\, guidata da Oscar Pizzo\, Massimo S
 igillò Massara\, Eleonora Fisco e Lorenzo Maragoni. Una dichiarazione d
 ’intenti forte e chiara: fare della banda un passaggio\, una soglia sono
 ra tra le generazioni\, una cerniera tra chi siamo stati e chi possiamo es
 sere. Il tutto sul filo di quelle parole di chi abita i borghi e di quel p
 atrimonio immateriale rappresentato dal folklore delle marce e delle bande
 \, luoghi di aggregazione e trasmissione di memoria.\n\nNato da mesi di la
 voro collettivo tra bande popolari e comunità locali\, dopo il debutto ro
 mano\, Quando la banda passò prosegue così con un calendario estivo diff
 uso\, radicato nel territorio\, tra feste\, piazze e riti condivisi.\n\nAc
 canto alla poesia e alla musica\, il progetto Trevinano RI-WIND trova nell
 a contemporaneità artistica un altro asse portante. All’interno del pro
 gramma prende vita infatti il progetto di arte contemporanea\, a cura di D
 avide Sarchioni: un vero e proprio motore di rigenerazione urbana\, in cui
  è l’arte pubblica a offrire visione\, ascolto e possibilità.\n\nNove 
 artisti e artiste – tra cui Marco Eusepi\, Flavio Favelli\, Claire Fonta
 ine\, Antonello Ghezzi\, Mutsuo Hirano\, Thomas Lange\, Vincenzo Marsiglia
 \, Valentina Palazzari – sono stati invitati a prendere parte a un itine
 rario di arte pubblica permanente\, concepito come un museo a cielo aperto
  che si snoda attraverso i luoghi strategici e simbolici del borgo. Ogni a
 rtista\, dopo un lavoro di sopralluogo e dialogo con la comunità locale 
 – fatto di ascolto\, scambio di aneddoti\, visioni condivise e ricordi 
 – realizzerà un’opera pensata in e per quel luogo\, che entrerà a fa
 r parte del circuito permanente del progetto. È un processo di prossimit
 à e partecipazione\, in cui l’arte non solo si espone\, ma si costruisc
 e insieme: un atto generativo che connette passato\, presente e futuro\, e
  che fa della relazione tra gli artisti e gli abitanti un gesto politico e
  poetico insieme.\n\nÈ così che a Trevinano – dove si incontrano le re
 gioni – si incontrano anche le generazioni: le voci dei pochi anziani ri
 masti nel borgo – alcuni ultranovantenni – dialogano con quelle degli 
 artisti contemporanei e dei giovani che scelgono di tornare\, almeno per u
 n tempo\, nei luoghi delle proprie radici. Un patrimonio affettivo e cultu
 rale che si trasmette attraverso le storie\, i riti\, le musiche\, i racco
 nti familiari\, per un progetto che mette tutto questo al centro\, costrue
 ndo un ponte vivo tra memoria e futuro.
ATTACH;FMTTYPE=image/jpeg:https://lazioeventi.com/wp-content/uploads/2025/
 06/Trevinano-Ri-Wind_Foto-via-comune-Trevinano.jpg
CATEGORIES:Arte e Cultura nel Lazio,Musica, Spettacoli e Danza nel Lazio
LOCATION:Acquapendente\, Comune\, Acquapendente\, Viterbo\, Lazio\, Italia
GEO:42.7439899;11.864753999999948
X-APPLE-STRUCTURED-LOCATION;VALUE=URI;X-ADDRESS=Comune\, Acquapendente\, Vi
 terbo\, Lazio\, Italia;X-APPLE-RADIUS=100;X-TITLE=Acquapendente:geo:42.743
 9899,11.864753999999948
END:VEVENT
BEGIN:VTIMEZONE
TZID:Europe/Rome
X-LIC-LOCATION:Europe/Rome
BEGIN:DAYLIGHT
DTSTART:20250330T030000
TZOFFSETFROM:+0100
TZOFFSETTO:+0200
TZNAME:CEST
END:DAYLIGHT
END:VTIMEZONE
END:VCALENDAR