BEGIN:VCALENDAR
VERSION:2.0
PRODID:-//wp-events-plugin.com//7.2.3.1//EN
TZID:Europe/Rome
X-WR-TIMEZONE:Europe/Rome
BEGIN:VEVENT
UID:28053@lazioeventi.com
DTSTART;TZID=Europe/Rome:20201026T203000
DTEND;TZID=Europe/Rome:20201026T220000
DTSTAMP:20201023T175159Z
URL:https://lazioeventi.com/eventi/tristana-di-luis-bunuel-alla-casa-del-c
 inema
SUMMARY:Tristana di Luis Buñuel alla Casa del Cinema - Roma - 26 Ottobre 2
 0 20:30
DESCRIPTION:Il 26 ottobre 2020 (a 70 anni dai Trattati di Roma che vedono n
 ascere l’Unione Europea) si apre alla Casa del Cinema la Sala Europa\,
  frutto della collaborazione di Francia (Institut français Italia e Inst
 itut français Centre Saint-Louis)\, Germ
ATTACH;FMTTYPE=image/jpeg:https://lazioeventi.com/wp-content/uploads/2020/
 10/Tristana.jpg
CATEGORIES:Musica, Spettacoli e Danza nel Lazio
LOCATION:Roma\, Via Leopardi\, Roma\, Roma\, Lazio\, Italia
GEO:41.8942;12.5017
X-APPLE-STRUCTURED-LOCATION;VALUE=URI;X-ADDRESS=Via Leopardi\, Roma\, Roma\
 , Lazio\, Italia;X-APPLE-RADIUS=100;X-TITLE=Roma:geo:41.8942,12.5017
END:VEVENT
BEGIN:VTIMEZONE
TZID:Europe/Rome
X-LIC-LOCATION:Europe/Rome
BEGIN:STANDARD
DTSTART:20201025T020000
TZOFFSETFROM:+0200
TZOFFSETTO:+0100
TZNAME:CET
END:STANDARD
END:VTIMEZONE
END:VCALENDAR