BEGIN:VCALENDAR
VERSION:2.0
PRODID:-//wp-events-plugin.com//7.2.3.1//EN
TZID:Europe/Rome
X-WR-TIMEZONE:Europe/Rome
BEGIN:VEVENT
UID:31775@lazioeventi.com
DTSTART;TZID=Europe/Rome:20220728T213000
DTEND;TZID=Europe/Rome:20220729T010000
DTSTAMP:20220725T150247Z
URL:https://lazioeventi.com/eventi/tropical-groove-cumbia-w-a-reina-del-fo
 mento
SUMMARY:Tropical Groove - Cumbia w/ A Reina del Fomento - Roma - 28 Luglio
  22 21:30
DESCRIPTION:Tropical Groove al Vittorio Summer Village. \nIn questa estate
  tropicale\, ogni giovedì sotto le palme dei giardini di Piazza Vittorio\
 , musicisti\, dj e cantanti si alternano sul palco per farci vibrare e bal
 lare con ritmi e groove latini e afrobeats passando dalla cumbia\, all'ele
 ctro-cumbia e dall'hip-hop al reaggea fino all'elettronica.\n\ndi Cumbia 
 con djset e intervento musicale della Reina del Fomento .\n\nGiovedi 28 L
 uglio\n21.30》01.00\nCumbia w/ A Reina del Fomento\n\n\nA REINA DEL FOME
 NTO\, aka Claudia Vernier\, lead-singer dei Los3saltos e dell'Istituto Ita
 liano di Cumbia\, compositrice\, performer\, agitatrice musicale delle not
 ti romane\, cultrice e appassionata dei suoni dal mondo\, negli anni ha co
 struito la sua carriera di djette attorno al concetto di "fomento". La sua
  selezione è incentrata sull’ideale di fiesta e spazia da un capo all
 'altro del globo ammiccando alla voglia di ballare delle persone in ascolt
 o. Il suo bacino di azione parte dalla cumbia e da tutte le sue possibili 
 declinazioni\, passando per la musica italiana "bella" (come lei ama defin
 irla) fino a spaziare verso dove meno ci si aspetta di arrivare.\nUn set a
 d alto contenuto di energia\, di fianchi ondeggianti e di cellulari che sh
 azammano le tracce.\nhttps://www.mixcloud.com/claudiadelfomento/\n\n\nSumm
 er Village Vittorio\, giardini di Piazza Vittorio Emanuele II\nhttps://www
 .facebook.com/vittoriosummervillage\nIngresos gratuito\nInfo 389 179 8451
ATTACH;FMTTYPE=image/jpeg:https://lazioeventi.com/wp-content/uploads/2022/
 07/tropical-groove.jpg
CATEGORIES:Musica, Spettacoli e Danza nel Lazio
LOCATION:Roma\, Via Leopardi\, Roma\, Roma\, Lazio\, Italia
GEO:41.8942;12.5017
X-APPLE-STRUCTURED-LOCATION;VALUE=URI;X-ADDRESS=Via Leopardi\, Roma\, Roma\
 , Lazio\, Italia;X-APPLE-RADIUS=100;X-TITLE=Roma:geo:41.8942,12.5017
END:VEVENT
BEGIN:VTIMEZONE
TZID:Europe/Rome
X-LIC-LOCATION:Europe/Rome
BEGIN:DAYLIGHT
DTSTART:20220327T030000
TZOFFSETFROM:+0100
TZOFFSETTO:+0200
TZNAME:CEST
END:DAYLIGHT
END:VTIMEZONE
END:VCALENDAR