BEGIN:VCALENDAR
VERSION:2.0
PRODID:-//wp-events-plugin.com//7.2.3.1//EN
TZID:Europe/Rome
X-WR-TIMEZONE:Europe/Rome
BEGIN:VEVENT
UID:33402@lazioeventi.com
DTSTART;TZID=Europe/Rome:20221218T093000
DTEND;TZID=Europe/Rome:20221218T173000
DTSTAMP:20221212T100000Z
URL:https://lazioeventi.com/eventi/tuscania-inaudita-bellezza
SUMMARY:Tuscania Inaudita Bellezza - Tuscania - 18 Dicembre 22 09:30
DESCRIPTION:Tuscania una cittadina di una inaudita ed emozionante bellezza\
 , trasuda storia arte archeologia umanità\nche ha vissuto e vive in quest
 o luogo dell'Etruria meridionale.\nInserita in una regione ricca di laghi 
 grandi e piccoli\, tutti di origine vulcanica.\nSeguendo la via dell'acqua
  Tuscania era inserita in un bacino di comunicazione di transito di popoli
  uomini merci idee.\nIl Marta metteva in comunicazione con il lago di bols
 ena\,insomma un luogo di grande importanza strategica che conserva tracce 
 notevoli di questa storia che dagli etruschi ai giorni nostri mantiene la 
 sua bellezza ed atmosfera.\nSaremo accompagnati ed accolti dalla Archeolog
 a Giuliana Orfei che ci racconterà.\nVisita alla Casa Museo di Bonaria Ma
 nca la Pastora Pittrice.\nVedremo delle necropoli etrusche e continueremo 
 a stupirci ed a riempirci di bellezza.\n\nAPPUNTAMENTO:\nDa maccarese- app
 untamento ore 08\,00 in piazza del maccarese.\nDa Roma orario e luogo da c
 oncordare.\n\nTuscania - Ore 09.30 due km prima di entrare in città sulla
  dx al parcheggio della Coop il supermercato si trova sulla strada princip
 ale.\n(Le auto le parcheggiamo in largo Vittorio Marinozzi Dove vi è un p
 archeggio libero)\nVi raccomandiamo puntualità.\nTuscania è facilmente r
 aggiungibile dall'autostrada Roma/Civitavecchia\nsuperata civitavecchia\nU
 scita Tarquinia seguire le indicazioni x Tuscania circa 25km.\n...........
 ...\nDifficoltà : E:\nADATTO A TUTTI\nconsigliato ai bambini e ragazzi.\n
 nessun dislivello\nDurata: 6 ore\nEquipaggiamento obbligatorio:\nScarpe da
  trekking o scarpe da ginnastica con gripp\,\npranzo al sacco.\nGiacca a v
 ento kway\,msntella antipioggia\,\nbastoncini telescopici facoltativi\, ca
 mbio (magliette calzini\, pantaloni).\nacqua\, zaino da giornata\, pranzo 
 al sacco\, snack.
ATTACH;FMTTYPE=image/jpeg:https://lazioeventi.com/wp-content/uploads/2016/
 06/tuscania.jpg
CATEGORIES:Sport, Tempo Libero e Divertimento nel Lazio
LOCATION:Tuscania\, Comune\, Tuscania\, Viterbo\, Lazio\, Italia
GEO:42.4162;11.8761
X-APPLE-STRUCTURED-LOCATION;VALUE=URI;X-ADDRESS=Comune\, Tuscania\, Viterbo
 \, Lazio\, Italia;X-APPLE-RADIUS=100;X-TITLE=Tuscania:geo:42.4162,11.8761
END:VEVENT
BEGIN:VTIMEZONE
TZID:Europe/Rome
X-LIC-LOCATION:Europe/Rome
BEGIN:STANDARD
DTSTART:20221030T020000
TZOFFSETFROM:+0200
TZOFFSETTO:+0100
TZNAME:CET
END:STANDARD
END:VTIMEZONE
END:VCALENDAR