BEGIN:VCALENDAR
VERSION:2.0
PRODID:-//wp-events-plugin.com//7.2.3.1//EN
TZID:Europe/Rome
X-WR-TIMEZONE:Europe/Rome
BEGIN:VEVENT
UID:34787@lazioeventi.com
DTSTART;TZID=Europe/Rome;VALUE=DATE:20250517
DTEND;TZID=Europe/Rome;VALUE=DATE:20250519
DTSTAMP:20250513T070025Z
URL:https://lazioeventi.com/eventi/tuscia-in-fiore-viterbo
SUMMARY:Tuscia in Fiore - Viterbo - 17 Maggio 25 00:00
DESCRIPTION:Festival dei fiori\, dell’allegria e della gioia di vivere\, 
 per tutte le età.\n\nDurante il mese di maggio 2025\, alcuni dei bellissi
 mi borghi della Tuscia\, appena a nord di Roma\, si vestiranno a festa per
  la gioia di tutti i visitatori.\nIn questo evento regionale\, sarete trav
 olti dai colori e dai profumi di migliaia di fiori in tutta la regione che
  vi accompagneranno nel viaggio attraverso il “segreto meglio custodito
 ” d'Italia.\nL'occasione perfetta per riscoprire le vere tradizioni ital
 iane e godere del buon cibo. Un'esperienza indimenticabile\, un ritorno al
 le radici che lascerà nella vostra memoria dei ricordi preziosi che custo
 direte per sempre!\n\nContinua il viaggio di Tuscia in Fiore tra borghi sc
 olpiti nel tempo e angoli magici che debbono solo essere presentati per di
 ventare destinazioni turistiche.\n\nL’esempio perfetto è villa San Giov
 anni in Tuscia dove dall’intuizione originale di Tuscia in Fiore è nata
  una stella! Grazie all’incredibile creatività della gente di questo pi
 ccolo borgo nascosto nel triangolo d’oro dell’olio arrivano qui da tut
 ta Italia per ammirare le loro unicità.\nBassano in Teverina\, dalle maes
 tose architetture medievali\, per Tuscia in Fiore si popola di turisti e c
 uriosi da ogni dove. Li artisti ed artigiani sono sempre pronti a stupirli
  e nei giorni dell’evento trovano i fiori di primavera che esaltano il b
 ellissimo borgo.\n\nSabato 17 e domenica 18 il festival della Tuscia farà
  tappa a Viterbo-Via Cavour. Il gruppo che fa festa di Tuscia in Fiore e l
 e operose commercianti locali sono attive da mesi per creare un cocktail e
 splosivo di colori\, suoni e sorprese. Programma intenso ed esclusivo con 
 il primo festival dei cantautori della Tuscia.\n\nCome lo scorso anno:\nSa
 ranno organizzate escursioni a piedi\, in bici e a cavallo\nCaccia al teso
 ro digitale\nRaduno di bike e mountain bike\nRaduno di Fiat 500 e Vespa\nI
  bambini saranno coinvolti in una serie di attività organizzate dall'asso
 ciazione "La Via degli Artisti"\, tanti colori\, pittura\, giochi per tras
 correre un weekend all'aria aperta a due passi da Roma.\n\nTutte le inform
 azioni su https://www.tusciainfiore.it/\n\n
ATTACH;FMTTYPE=image/jpeg:https://lazioeventi.com/wp-content/uploads/2023/
 03/tuscia-in-fiore-viterbo.jpg
CATEGORIES:Varie,Musica, Spettacoli e Danza nel Lazio,Sport, Tempo Libero
 e Divertimento nel Lazio
LOCATION:Viterbo\, Comune\, Viterbo\, Viterbo\, Lazio\, Italia
GEO:42.417;12.1051
X-APPLE-STRUCTURED-LOCATION;VALUE=URI;X-ADDRESS=Comune\, Viterbo\, Viterbo\
 , Lazio\, Italia;X-APPLE-RADIUS=100;X-TITLE=Viterbo:geo:42.417,12.1051
END:VEVENT
BEGIN:VTIMEZONE
TZID:Europe/Rome
X-LIC-LOCATION:Europe/Rome
BEGIN:DAYLIGHT
DTSTART:20250330T030000
TZOFFSETFROM:+0100
TZOFFSETTO:+0200
TZNAME:CEST
END:DAYLIGHT
END:VTIMEZONE
END:VCALENDAR