BEGIN:VCALENDAR
VERSION:2.0
PRODID:-//wp-events-plugin.com//7.2.3.1//EN
TZID:Europe/Rome
X-WR-TIMEZONE:Europe/Rome
BEGIN:VEVENT
UID:41246@lazioeventi.com
DTSTART;TZID=Europe/Rome:20250419T150000
DTEND;TZID=Europe/Rome:20250419T163000
DTSTAMP:20250415T141316Z
URL:https://lazioeventi.com/eventi/tutti-pazzi-per-dante
SUMMARY:Tutti pazzi per Dante - Grottaferrata - 19 Aprile 25 15:00
DESCRIPTION:La compagnia teatrale composta dai formidabili nonni di Villa R
 omani\, in collaborazione con i ragazzi dell’Istituto Comprensivo Frasca
 ti 1\, stanno mettendo in scena uno spettacolo unico\, che come sempre tes
 timonia la grandiosità artistica che li caratterizza. Un musical su Dante
  che vede una fusione perfetta tra ragazzi e nonni. \nUn esempio di come l
 ’età sia soltanto un fattore anagrafico e che l’arte supera ogni limi
 te. I nonni sono impegnati anche con realizzazione di un documentario che 
 racconta la loro storia artistica tra prove ed interviste. La regia e la p
 roduzione è a cura di uno staff completamente al femminile così composto
 :\n\nValentina Mancuso – regia\nBianca Maria Cocchi – dop e 1 operatri
 ce macchina\nGiorgia Moretti – 2 Operatrice di macchina\nBarbara Caciopp
 o – 3 Operatrice macchina e colorist\nAnna Cardaropoli – montatrice\nD
 anila turchetti – aiuto sceneggiatura
ATTACH;FMTTYPE=image/jpeg:https://lazioeventi.com/wp-content/uploads/2025/
 04/nonni.jpg
CATEGORIES:Musica, Spettacoli e Danza nel Lazio
LOCATION:Grottaferrata\, Comune\, Grottaferrata\, Roma\, Lazio\, Italia
GEO:41.7916;12.6667
X-APPLE-STRUCTURED-LOCATION;VALUE=URI;X-ADDRESS=Comune\, Grottaferrata\, Ro
 ma\, Lazio\, Italia;X-APPLE-RADIUS=100;X-TITLE=Grottaferrata:geo:41.7916,1
 2.6667
END:VEVENT
BEGIN:VTIMEZONE
TZID:Europe/Rome
X-LIC-LOCATION:Europe/Rome
BEGIN:DAYLIGHT
DTSTART:20250330T030000
TZOFFSETFROM:+0100
TZOFFSETTO:+0200
TZNAME:CEST
END:DAYLIGHT
END:VTIMEZONE
END:VCALENDAR