BEGIN:VCALENDAR
VERSION:2.0
PRODID:-//wp-events-plugin.com//7.2.3.1//EN
TZID:Europe/Rome
X-WR-TIMEZONE:Europe/Rome
BEGIN:VEVENT
UID:35288@lazioeventi.com
DTSTART;TZID=Europe/Rome:20230515T183000
DTEND;TZID=Europe/Rome:20230517T210000
DTSTAMP:20230508T103622Z
URL:https://lazioeventi.com/eventi/tutti-su-buon-compleanno-claudio
SUMMARY:Tutti Su! Buon Compleanno Claudio - Gaeta - 15 Maggio 23 18:30
DESCRIPTION:Ci Sarete anche Voi a Festeggiare questo Evento Unico???\n\nIl 
 film evento sul progetto musicale inedito di Claudio Baglioni "Dodici Note
  - TUTTI SU!"\, 12 straordinari eventi che hanno avuto luogo dal 3 al 19 g
 iugno 2022 alle Terme di Caracalla in Apertura della Stagione Lirica del T
 eatro dell'Opera di Roma. Per la prima volta in assoluto un'apertura così
  prestigiosa è stata affidata a un compositore e interprete di musica mod
 erna per uno spettacolo fortemente innovativo\, potente e interdisciplinar
 e.\n\nGuarda il Trailer:\n\nhttps://youtu.be/fAMgPHVxhIg
ATTACH;FMTTYPE=image/jpeg:https://lazioeventi.com/wp-content/uploads/2023/
 05/baglioni-tutti-su.jpg
CATEGORIES:Musica, Spettacoli e Danza nel Lazio
LOCATION:Gaeta\, Comune\, Gaeta\, Latina\, Lazio\, Italia
GEO:41.2138166;13.571388500000012
X-APPLE-STRUCTURED-LOCATION;VALUE=URI;X-ADDRESS=Comune\, Gaeta\, Latina\, L
 azio\, Italia;X-APPLE-RADIUS=100;X-TITLE=Gaeta:geo:41.2138166,13.571388500
 000012
END:VEVENT
BEGIN:VTIMEZONE
TZID:Europe/Rome
X-LIC-LOCATION:Europe/Rome
BEGIN:DAYLIGHT
DTSTART:20230326T030000
TZOFFSETFROM:+0100
TZOFFSETTO:+0200
TZNAME:CEST
END:DAYLIGHT
END:VTIMEZONE
END:VCALENDAR