BEGIN:VCALENDAR
VERSION:2.0
PRODID:-//wp-events-plugin.com//7.2.3.1//EN
TZID:Europe/Rome
X-WR-TIMEZONE:Europe/Rome
BEGIN:VEVENT
UID:31995@lazioeventi.com
DTSTART;TZID=Europe/Rome:20220830T163000
DTEND;TZID=Europe/Rome:20220830T233000
DTSTAMP:20220812T072927Z
URL:https://lazioeventi.com/eventi/tutto-e-partito-dal-cielo
SUMMARY:Tutto è partito dal cielo - Monte San Giovanni in Sabina - 30 Agos
 to 22 16:30
DESCRIPTION:Al via martedì 30 agosto “Tutto è partito dal cielo”\, l
 ’evento di promozione territoriale per sensibilizzare al rispetto della 
 natura e al tema dell’inquinamento luminoso\, organizzato da Open Sky co
 n il patrocinio della Regione Lazio e del Comune di Rieti. L’intento è 
 di far vivere un’esperienza di consapevolezza ambientale e culturale in 
 maniera gioiosa\, in un territorio suggestivo e poco conosciuto in cui spo
 rt\, cibo\, musica e scienza\, si incontrano\, nel rispetto della natura.\
 n\nLe attività avranno inizio alle ore 16.30 con l’accoglienza dei part
 ecipanti e un momento di interiorizzazione guidato dall’insegnante di me
 ditazione Neeraja\, a seguire il primo appuntamento con l’eco-trekking a
  cura della guida ambientale escursionistica Mauro Cappelletti. Il percors
 o prevede una passeggiata alla portata di tutti di circa un’ora e mezza 
 (compreso il ritorno)\, attraverso un sentiero di grande pregio naturalist
 ico. Per chi lo preferisse\, può scegliere un percorso più breve in auto
 nomia\, lungo i sentieri nelle vicinanze. Gli escursionisti sono invitati 
 a portare con sé guanti e sacchi per raccogliere gli eventuali rifiuti in
 contrati nel cammino. Di ritorno dalla passeggiata ai partecipanti verrà 
 spiegato il percorso\, cos’è l’eco-trekking\, l’etica dell’escurs
 ionista e come limitare l’impatto ambientale di un’escursione.\n\nDall
 e ore 19 gli esperti dell’associazione Astronomitaly (Rete Nazionale del
  Turismo Astronomico\, che certifica le location ideali per l’astroturis
 mo e i cieli più belli d’Italia\, dove poter osservare le stelle e sogg
 iornare)\, illustreranno la tematica dell’inquinamento luminoso.\n\nDall
 e ore 20 la cena\, dove verrà servita la degustazione (su prenotazione an
 ticipata) delle tipiche “fregnacce alla sabinese”\, pasta fatta in cas
 a condita con sugo al pomodoro ed olive\, piatto caratteristico della Sabi
 na. Ma per chi preferisse la cena al sacco\, sono a disposizione dei part
 ecipanti gli ampi prati antistanti.\n\nDalle ore 21 concerto candle light 
 con il maestro chitarrista e compositore Fausto Ciotti. Un live show west
  coast country blues con le canzoni di grandi artisti tra cui James Taylor
 \, Bob Dylan\, Crosby Stills Nash &amp\; Young\, Eagles.\n\nA seguire l’
 appuntamento più rappresentativo di tutta la manifestazione: “Tutto è 
 partito dal cielo”\, dove il pubblico potrà partecipare a una vera osse
 rvazione astronomica. Gli astronomi metteranno a disposizione i loro poten
 ti telescopi\, aiutando i partecipanti nella scoperta di pianeti e costell
 azioni. Il pubblico potrà partecipare liberamente a tutte le attività o 
 sceglierne solo alcune.\n\nDurante tutto lo svolgimento dell’evento sar
 à presente uno stand di un’azienda agricola biologica locale\, nata olt
 re vent’anni fa in un ambiente completamente incontaminato\, circondato 
 da catene montuose\, antichi borghi e corsi d’acqua. Proporrà prodotti
  artigianali nati dall’utilizzo di una pregiata lavanda biologica montan
 a\, coltivata a 900 mt. di altezza.\n\nOpen Sky è un’associazione no-pr
 ofit\, nata per sostenere progetti che mirino a creare armonia tra l’uom
 o e la natura. Tutti i progetti di Open Sky vogliono creare armonia\, là 
 dove c’è più bisogno: all’esterno\, ma anche\, e soprattutto\, inter
 iormente.\n\n&nbsp\;\n\nMartedì 30 agosto\nDalle 16.30 alle 23.30\nTancia
  Hostel House\nLocalità Osteria Tancia\nMonte San Giovanni in Sabina (RI)
 \nIngresso libero\, prenotazione cena obbligatoria entro il 26/8\nInfo +39
 3911060153 / info@openskynoprofit.org\n\n&nbsp\;
ATTACH;FMTTYPE=image/jpeg:https://lazioeventi.com/wp-content/uploads/2022/
 08/Tutto-e-partito-dal-cielo.jpg
CATEGORIES:Sport, Tempo Libero e Divertimento nel Lazio
LOCATION:Monte San Giovanni in Sabina\, Comune\, Monte San Giovanni in Sabi
 na\, Rieti\, Lazio\, Italia
GEO:42.3281;12.7778
X-APPLE-STRUCTURED-LOCATION;VALUE=URI;X-ADDRESS=Comune\, Monte San Giovanni
  in Sabina\, Rieti\, Lazio\, Italia;X-APPLE-RADIUS=100;X-TITLE=Monte San G
 iovanni in Sabina:geo:42.3281,12.7778
END:VEVENT
BEGIN:VTIMEZONE
TZID:Europe/Rome
X-LIC-LOCATION:Europe/Rome
BEGIN:DAYLIGHT
DTSTART:20220327T030000
TZOFFSETFROM:+0100
TZOFFSETTO:+0200
TZNAME:CEST
END:DAYLIGHT
END:VTIMEZONE
END:VCALENDAR