BEGIN:VCALENDAR
VERSION:2.0
PRODID:-//wp-events-plugin.com//7.2.3.1//EN
TZID:Europe/Rome
X-WR-TIMEZONE:Europe/Rome
BEGIN:VEVENT
UID:32524@lazioeventi.com
DTSTART;TZID=Europe/Rome;VALUE=DATE:20221001
DTEND;TZID=Europe/Rome;VALUE=DATE:20221003
DTSTAMP:20220928T103050Z
URL:https://lazioeventi.com/eventi/ugo-mania
SUMMARY:Ugo Mania - Velletri - 1 Ottobre 22 00:00
DESCRIPTION:Vi aspettiamo a Velletri 1 e 2 ottobre per festeggiare insieme 
 il centenario della nascita di Ugo Tognazzi\n\nSabato 1° ottobre\, Casa d
 elle Culture\nore 18 saluti istituzionali ed apertura dell’evento\;\na s
 eguire\, apertura della mostra fotografica dedicata ad Ugo Tognazzi dal ti
 tolo “100 foto per i 100 anni di Ugo Tognazzi”\;\nore 19 “Un Cuoco p
 restato al Cinema” iniziativa realizzata con l'intervento dell'IPSSAR 
 “Ugo Tognazzi” di Velletri ed in collaborazione con i ristoranti\, i q
 uali rivisiteranno le ricette di Tognazzi in chiave finger food.\nore 20 p
 resso l’Auditorium\, proiezione del film “La Marcia su Roma”\nOmaggi
 o a Ugo Tognazzi e Vittorio Gassmann\, nel centenario della nascita dei du
 e attori.\nLa proiezione sarà preceduta da una presentazione della pellic
 ola da parte di GianMarco Tognazzi\, il quale racconterà aneddoti e curio
 sità dal dietro le quinte del set.\nInoltre\, durante tutta la serata\, s
 pettacolo di video mapping: sulla facciata interna del chiostro\, saranno 
 proiettate alcune tra le foto più belle ed iconiche di Ugo Tognazzi.\n\nD
 omenica 2 ottobre\nVisite guidate alla Casa Museo Ugo Tognazzi\, con servi
 zio bus navetta dal centro della città. I visitatori potranno\, previa pr
 enotazione\, visitare la casa trasformata dalla famiglia in un museo. Un l
 uogo fatto di spazi dove Ugo ha passato la maggior parte della sua vita\, 
 pieno di oggetti personali\, foto e tanto altro che raccontano la vita pi
 ù intima dell’attore.\nSi svolgeranno 4 visite guidate alle ore 10:00\,
  11:30\, 15:30\, 17:00.\nPartenza (e ritorno) del bus navetta da Viale Bru
 no Buozzi (fermata trasporto locale adiacente sede AVIS) alle ore 9:30\, 1
 1:00\, 15:00\, 16:30.\n\nPRENOTAZIONI presso il Punto Informazioni Turisti
 che (chiosco PIT) di Velletri\, Piazza Garibaldi.\n\nINGRESSO LIBERO\nVi a
 spettiamo!
ATTACH;FMTTYPE=image/jpeg:https://lazioeventi.com/wp-content/uploads/2022/
 09/ugo-mania.jpg
CATEGORIES:Arte e Cultura nel Lazio
LOCATION:Velletri\, Comune\, Velletri\, Roma\, Lazio\, Italia
GEO:41.6865;12.7776
X-APPLE-STRUCTURED-LOCATION;VALUE=URI;X-ADDRESS=Comune\, Velletri\, Roma\, 
 Lazio\, Italia;X-APPLE-RADIUS=100;X-TITLE=Velletri:geo:41.6865,12.7776
END:VEVENT
BEGIN:VTIMEZONE
TZID:Europe/Rome
X-LIC-LOCATION:Europe/Rome
BEGIN:DAYLIGHT
DTSTART:20220327T030000
TZOFFSETFROM:+0100
TZOFFSETTO:+0200
TZNAME:CEST
END:DAYLIGHT
END:VTIMEZONE
END:VCALENDAR