BEGIN:VCALENDAR
VERSION:2.0
PRODID:-//wp-events-plugin.com//7.2.3.1//EN
TZID:Europe/Rome
X-WR-TIMEZONE:Europe/Rome
BEGIN:VEVENT
UID:42593@lazioeventi.com
DTSTART;TZID=Europe/Rome:20251002T120000
DTEND;TZID=Europe/Rome:20251102T190000
DTSTAMP:20250925T170513Z
URL:https://lazioeventi.com/eventi/ultrafisica-personale-di-mauro-reggio
SUMMARY:ULTRAFISICA\, personale di Mauro Reggio - Roma - 2 Ottobre 25 12:00
DESCRIPTION:Informazioni\nTitolo: ULTRAFISICA\nArtista: Mauro Reggio\nCurat
 ore: Valeria Rufini Ferranti\nOrganizzazione: Medina Art Gallery\nQuando: 
 dal 2 Ottobre al 2 Novembre 2025\nDove: Palazzo Merulana\, Via Merulana 12
 1\, Roma\nSponsor: Marziali Caffè\nLa mostra sarà visitabile con il bigl
 ietto d’ingresso al museo.\nDa mercoledì a venerdì: 12.00-20.00 (ultim
 o ingresso ore 19.00)\nSabato e domenica: 10.00-20.00 (ultimo ingresso ore
  19.00)\nwww.palazzomerulana.it
ATTACH;FMTTYPE=image/jpeg:https://lazioeventi.com/wp-content/uploads/2025/
 09/reggio_locandina700x700.jpg
CATEGORIES:Arte e Cultura nel Lazio
LOCATION:Roma\, Via Leopardi\, Roma\, Roma\, Lazio\, Italia
GEO:41.8942;12.5017
X-APPLE-STRUCTURED-LOCATION;VALUE=URI;X-ADDRESS=Via Leopardi\, Roma\, Roma\
 , Lazio\, Italia;X-APPLE-RADIUS=100;X-TITLE=Roma:geo:41.8942,12.5017
END:VEVENT
BEGIN:VTIMEZONE
TZID:Europe/Rome
X-LIC-LOCATION:Europe/Rome
BEGIN:DAYLIGHT
DTSTART:20250330T030000
TZOFFSETFROM:+0100
TZOFFSETTO:+0200
TZNAME:CEST
END:DAYLIGHT
BEGIN:STANDARD
DTSTART:20251026T020000
TZOFFSETFROM:+0200
TZOFFSETTO:+0100
TZNAME:CET
END:STANDARD
END:VTIMEZONE
END:VCALENDAR