BEGIN:VCALENDAR
VERSION:2.0
PRODID:-//wp-events-plugin.com//7.2.3.1//EN
TZID:Europe/Rome
X-WR-TIMEZONE:Europe/Rome
BEGIN:VEVENT
UID:30079@lazioeventi.com
DTSTART;TZID=Europe/Rome:20220318T163000
DTEND;TZID=Europe/Rome:20220318T180000
DTSTAMP:20220314T095241Z
URL:https://lazioeventi.com/eventi/umorismo-ebraico-a-valentano
SUMMARY:Umorismo ebraico a Valentano - Valentano - 18 Marzo 22 16:30
DESCRIPTION:Per il Sistema bibliotecario del lago di Bolsena\, Gianni Abbat
 e\, venerdì 18 marzo alle ore 16\,30\, presso la sala conferenze della Bi
 blioteca di Valentano\, ci introdurrà all’umorismo ebraico con il suo 
 “Un witz ci salverà”.\n\n“Lo Humor si trasfigura nella tradizione e
 braica” – dice Abbate – “Come una continua affermazione della vita
  di fronte al male del mondo\, come la capacità di distaccarsi e di coinv
 olgersi continuamente nel continuo divenire dell’essere e quindi\, di so
 rridere anche nella tragedia più totale. Si inizia presto a ridere.\n\nI 
 primi sono Abramo e Sara\, lui cento anni e lei novanta\, quando gli angel
 i che li vanno a trovare annunciano loro che avranno il figlio tanto attes
 o. Attraverso l’operazione umoristica l’ebreo si erge su un piano spir
 ituale superiore rispetto alla sua stessa sorte. Si eleva\, quindi\, oltre
  l’immagine che gli altri gli hanno costruito\, non disprezzando però l
 a possibilità di sottolineare le sue storture caratteriali. L’ebreo si 
 presenta come un vinto e il vinto può godere del beneficio della pietà\,
  di uno sguardo amorevole e di una compassione che non cede al rancore. Il
  witz diventa così un’autentica forma di arguzia e di intelligenza.\n\n
 L’ebreo escluso e marginalizzato\, per un attimo\, corrispondente al tem
 po del wirtz\, diventa il centro del mondo\, e lo diventa nella misura in 
 cui è compiuta la sua marginalizzazione. Il riso ebraico non si abbandona
  mai ad una scrosciante e scomposta risata\, ma è un sorridere leggero\, 
 posato e profondo\, gravido di senso in quanto quello ebraico è un umoris
 mo pensante. Il popolo ebraico si qualifica storicamente come uno dei popo
 li più eruditi e alfabetizzati della storia dell’umanità.\n\nE’ già
  tra il VI e il VII secolo d.C. che Joshua ben Gamla\, sommo sacerdote\, i
 stituì l’obbligo dei padri di provvedere a insegnare a leggere la Torah
  ai propri figli. Il popolo ebraico diventa così il primo popolo ad istit
 uire la scuola dell’obbligo. Quest’incontro a Valentano sarà un puzzl
 e Yiddish coinvolgente\, colorato\, al quale partecipano tutti i personagg
 i-tipo: ebrei polacchi\, americani\, russi e tedeschi\, commercianti\, sar
 ti e rabbini\, tornando così sui passi di quel ‘popolo eletto’ caccia
 to e sparso per il globo\, eppure unito dalla propria mastodontica cultura
 .\n\nUn sorriso antico ed esperto\, quello ebraico\, di chi fin dall’alb
 a dei tempi ha dovuto sfruttare l’ironia per far fronte alle proprie dis
 grazie e ha saputo riciclare aneddoti e storielle per forgiare una sagace 
 oratoria in risposta al razzismo e alle calunnie”.\n\nIngresso gratuito.
  Info: 3471103270 - iportidellateverina.it
ATTACH;FMTTYPE=image/jpeg:https://lazioeventi.com/wp-content/uploads/2022/
 03/Abbate.jpg
CATEGORIES:Musica, Spettacoli e Danza nel Lazio
LOCATION:Valentano\, Comune\, Valentano\, Viterbo\, Lazio\, Italia
GEO:42.5664;11.8184
X-APPLE-STRUCTURED-LOCATION;VALUE=URI;X-ADDRESS=Comune\, Valentano\, Viterb
 o\, Lazio\, Italia;X-APPLE-RADIUS=100;X-TITLE=Valentano:geo:42.5664,11.818
 4
END:VEVENT
BEGIN:VTIMEZONE
TZID:Europe/Rome
X-LIC-LOCATION:Europe/Rome
BEGIN:STANDARD
DTSTART:20211031T020000
TZOFFSETFROM:+0200
TZOFFSETTO:+0100
TZNAME:CET
END:STANDARD
END:VTIMEZONE
END:VCALENDAR