BEGIN:VCALENDAR
VERSION:2.0
PRODID:-//wp-events-plugin.com//7.2.3.1//EN
TZID:Europe/Rome
X-WR-TIMEZONE:Europe/Rome
BEGIN:VEVENT
UID:29802@lazioeventi.com
DTSTART;TZID=Europe/Rome:20220327T110000
DTEND;TZID=Europe/Rome:20220327T130000
DTSTAMP:20220131T174558Z
URL:https://lazioeventi.com/eventi/un-altro-suono-breve-storia-della-chita
 rra-jazz
SUMMARY:Un altro suono: breve storia della chitarra jazz - Roma - 27 Marzo 
 22 11:00
DESCRIPTION:Tornano le lezioni di Jazz a cura di Stefano Zenni!\n\nIn quest
 o appuntamento andremo alla scoperta della storia della chitarra jazz.\n\n
 Strumento presente in tradizioni popolari e colte\, è nel jazz che la chi
 tarra ha sviluppato sonorità e linguaggio che poi si sono propagati in al
 tri generi del nostro tempo.\n\nPrima acustica poi elettrica\, la chitarra
  jazz ha seguito un suo peculiare percorso\, segnato dall’incrocio costa
 nte di tradizione e sperimentazione.
ATTACH;FMTTYPE=image/jpeg:https://lazioeventi.com/wp-content/uploads/2022/
 01/chitarra-jazz.jpg
CATEGORIES:Arte e Cultura nel Lazio,Musica, Spettacoli e Danza nel Lazio
LOCATION:Roma\, Via Leopardi\, Roma\, Roma\, Lazio\, Italia
GEO:41.8942;12.5017
X-APPLE-STRUCTURED-LOCATION;VALUE=URI;X-ADDRESS=Via Leopardi\, Roma\, Roma\
 , Lazio\, Italia;X-APPLE-RADIUS=100;X-TITLE=Roma:geo:41.8942,12.5017
END:VEVENT
BEGIN:VTIMEZONE
TZID:Europe/Rome
X-LIC-LOCATION:Europe/Rome
BEGIN:DAYLIGHT
DTSTART:20220327T030000
TZOFFSETFROM:+0100
TZOFFSETTO:+0200
TZNAME:CEST
END:DAYLIGHT
END:VTIMEZONE
END:VCALENDAR