BEGIN:VCALENDAR
VERSION:2.0
PRODID:-//wp-events-plugin.com//7.2.3.1//EN
TZID:Europe/Rome
X-WR-TIMEZONE:Europe/Rome
BEGIN:VEVENT
UID:28182@lazioeventi.com
DTSTART;TZID=Europe/Rome:20210318T170000
DTEND;TZID=Europe/Rome:20210430T200000
DTSTAMP:20210304T160427Z
URL:https://lazioeventi.com/eventi/un-attimo-di-distrazione-regalato-alla-
 vita
SUMMARY:Un attimo di distrazione regalato alla vita - Roma - 18 Marzo 21 17
 :00
DESCRIPTION:Inaugura il prossimo giovedì 18 marzo dalle ore 17 alle 20\, 
 “Un attimo di distrazione regalato alla vita”\, la mostra fotografica 
 di Umberto Stefanelli alla Galleria romana “Bresciani Visual Art” in V
 ia dei Bresciani 20.\n\nQuaranta immagini scattate tra Bhutan\, Giappone\,
  Tibet\, Hong Kong\, Mongolia\, Nepal\, Azerbaigian\, Panama\, Colombia\, 
 solo per citarne alcuni\, che sono al tempo stesso appunti di viaggio\, di
 vagazioni mentali di un tempo che fu\, fantasie oniriche dove la semplicit
 à rincorre la poesia.\nIn quest’assenza\, gli scatti fotografici di Umb
 erto Stefanelli non mirano a riprodurre il viaggio o a raccontarlo\, ma lo
  creano: rappresentano il mezzo che ha l’artista per narrare di un tempo
  che è apparso a tutti noi sospeso\, fatto di incertezze e nuove riflessi
 oni\, un’occasione per ridefinire spazi personali e trovare una via di u
 scita\, che consenta alla mente di valicare gli angusti spazi nei quali si
 amo stati relegati\, per immaginare insieme una possibilità di riscatto e
  di nuovo inizio.\n\nUn’esplorazione visiva che si sofferma sui volti\, 
 sugli orizzonti\, sul concetto di limite\; fatta di rivelazioni\, risvegli
 \, disturbi ossessivo-compulsivi\, balocchi\, pagine di eros gastronomico.
 \nVittorie\, sconfitte\, muri bianchi\, ego da contenere\, ermetismo\, sol
 dati e dediche fotografiche. Nocciola negli occhi\, parole nelle mani.\n
 “Perché quando un sogno da bambino m’attraversa all'improvviso la str
 ada\, la mia Musa cristallizza nel labirinto della memoria\, quell’attim
 o di distrazione regalato alla vita”.\n\nCresciuto artisticamente a New 
 York\, dopo avere esposto in tutto il mondo\, le sue opere sono conservate
  nel Polaroid International Museum U.S.A.\, nel Museo Nazionale della Foto
 grafia di Brescia\, nella Galleria Civica di Modena\, nel CIFA - Centro It
 aliano della Fotografia d’Autore\, nel Museo della Fotografia di Lishui 
 – Cina\, nello Shanghai Duolun Museum Of Modern Art ed in altre collezio
 ni pubbliche e private\, nazionali ed internazionali\, Umberto Stefanelli 
 torna a Roma per presentare presso lo Spazio espositivo “Bresciani Visua
 l Art”\, un originale ed insolito progetto fotografico in cui gli scatti
  in gran parte inediti\, rappresentano un dialogo tra il fotografo ed il f
 ruitore delle immagini.\nLa location è tra le più esclusive e di nicchia
 : una deliziosa e curatissima Galleria situata in via dei Bresciani\, nel 
 Rione Ponte\, a due passi da Piazza Farnese.\nUmberto Stefanelli sarà ino
 ltre protagonista con un inedito e straordinario progetto fotografico sull
 a Nord Corea che verrà presentato a luglio\, in occasione di “Roma Foto
 grafia 2021 Freedom”\, la più importante rassegna romana dedicata all
 ’arte fotografica che coinvolgerà tra maggio e dicembre 2021 le più im
 portanti Gallerie e spazi pubblici e privati della Capitale.\n\n“Un atti
 mo di distrazione regalato alla vita”\nUmberto Stefanelli Photographer\n
 Bresciani Visual Art\nVia dei Bresciani\, 20 Roma infoline 3429857662\nVer
 nissage giovedì 18 marzo dalle 17 alle 20\ndal 18 marzo – 30 aprile 202
 1\ndal lunedì al venerdì dalle 16 alle 20 e su appuntamento\nCuratore - 
 Ufficio stampa e comunicazione Stella Maresca Riccardi\nProject Manager Se
 rgio Emiliano\nProgetto Grafico Lucilla Cenciarelli
ATTACH;FMTTYPE=image/jpeg:https://lazioeventi.com/wp-content/uploads/2021/
 03/locandina-verticale.jpg
CATEGORIES:Arte e Cultura nel Lazio
LOCATION:Roma\, Via Leopardi\, Roma\, Roma\, Lazio\, Italia
GEO:41.8942;12.5017
X-APPLE-STRUCTURED-LOCATION;VALUE=URI;X-ADDRESS=Via Leopardi\, Roma\, Roma\
 , Lazio\, Italia;X-APPLE-RADIUS=100;X-TITLE=Roma:geo:41.8942,12.5017
END:VEVENT
BEGIN:VTIMEZONE
TZID:Europe/Rome
X-LIC-LOCATION:Europe/Rome
BEGIN:STANDARD
DTSTART:20201025T020000
TZOFFSETFROM:+0200
TZOFFSETTO:+0100
TZNAME:CET
END:STANDARD
BEGIN:DAYLIGHT
DTSTART:20210328T030000
TZOFFSETFROM:+0100
TZOFFSETTO:+0200
TZNAME:CEST
END:DAYLIGHT
END:VTIMEZONE
END:VCALENDAR