BEGIN:VCALENDAR
VERSION:2.0
PRODID:-//wp-events-plugin.com//7.2.3.1//EN
TZID:Europe/Rome
X-WR-TIMEZONE:Europe/Rome
BEGIN:VEVENT
UID:36598@lazioeventi.com
DTSTART;TZID=Europe/Rome:20230819T210000
DTEND;TZID=Europe/Rome:20230819T234500
DTSTAMP:20230814T142505Z
URL:https://lazioeventi.com/eventi/un-borgo-1000-candele
SUMMARY:Un Borgo\, 1000 Candele - Lenola - 19 Agosto 23 21:00
DESCRIPTION:Percorso a lume di candela nel centro storico di Lenola.\n\nDeg
 ustazioni\, spettacoli e musica.\n\nSiete pronti per immergervi in un'atmo
 sfera magica e incantata? \nAllora segnatevi questa data: Sabato\, 19 Agos
 to\, Lenola si trasformerà in un mondo di luce e suggestione con l'evento
  imperdibile "Lenola: un Borgo 1000 Candele"!\n\nProgramma della Serata\nO
 re 21:00 - Apertura dell'evento con la premiazione del concorso "LENOLA IN
  FIORE" \n\nLive Music in Piazza\nAssapora il piacere di una serata all'in
 segna della buona musica e del divertimento. Artisti locali si esibiranno 
 in un concerto dal vivo\, creando un'atmosfera soft. \n\nStreet Food e Spe
 cialità Locali\nDelizia il tuo palato con un'ampia selezione di prelibate
 zze gastronomiche. Dalle tradizionali specialità locali a sorprese culina
 rie uniche\, avrai l'opportunità di gustare sapori autentici e irresistib
 ili.\n\nIlluminazione delle 20000 Candele\nAppena cala il sole\, il borgo 
 si illuminerà con il calore di mille candele\, creando un'atmosfera magic
 a e romantica. Passeggia per le stradine acciottolate e ammira il borgo so
 tto una luce nuova e suggestiva. Fino ad arrivare alla Basilica Santuario 
 Maria Santissima del Colle.\n\nAnimazioni\nAlle ore 21:30 spettacolo dedic
 ato ai bambini e non solo. Seguiranno spettacoli di fuoco e magia durante 
 la serata\, che si ripeteranno ad orari alternati. Ammirate il nostro prog
 ramma\, pubblicato nel post\, per organizzare al meglio il vostro percorso
 . Preparatevi a rimanere a bocca aperta!\n\nNon perdete l'occasione di viv
 ere un'esperienza unica a Lenola: un borgo che si accenderà di mille cand
 ele e vi incanterà con la sua bellezza senza tempo. Invitate amici e fami
 liari\, e unitevi a noi per una serata di gioia\, emozioni e meraviglia!\n
 \n[gallery columns="2" link="file" ids="168925\,168926"]
ATTACH;FMTTYPE=image/jpeg:https://lazioeventi.com/wp-content/uploads/2023/
 08/un-borgo-1000-candele.jpg
CATEGORIES:Musica, Spettacoli e Danza nel Lazio,Sport, Tempo Libero e
 Divertimento nel Lazio
LOCATION:Lenola\, Comune\, Lenola\, Latina\, Lazio\, Italia
GEO:41.4092;13.4621
X-APPLE-STRUCTURED-LOCATION;VALUE=URI;X-ADDRESS=Comune\, Lenola\, Latina\, 
 Lazio\, Italia;X-APPLE-RADIUS=100;X-TITLE=Lenola:geo:41.4092,13.4621
END:VEVENT
BEGIN:VTIMEZONE
TZID:Europe/Rome
X-LIC-LOCATION:Europe/Rome
BEGIN:DAYLIGHT
DTSTART:20230326T030000
TZOFFSETFROM:+0100
TZOFFSETTO:+0200
TZNAME:CEST
END:DAYLIGHT
END:VTIMEZONE
END:VCALENDAR