BEGIN:VCALENDAR
VERSION:2.0
PRODID:-//wp-events-plugin.com//7.2.3.1//EN
TZID:Europe/Rome
X-WR-TIMEZONE:Europe/Rome
BEGIN:VEVENT
UID:26691@lazioeventi.com
DTSTART;TZID=Europe/Rome:20200628T100000
DTEND;TZID=Europe/Rome:20200628T110000
DTSTAMP:20200620T063014Z
URL:https://lazioeventi.com/eventi/un-cerchio-di-favole-2020-06-28
SUMMARY:Un cerchio di favole - Cassino - 28 Giugno 20 10:00
DESCRIPTION:Un cerchio di favole è un'iniziativa promossa dalle associazio
 ni Dike\, Amici di San Benedetto\, AGE\, Il Cinema dei Piccoli e realizzat
 a con il contributo di Francesca Truppa (Francy Briciola). All'interno del
  parco Baden Powell\, verranno lette dell
ATTACH;FMTTYPE=image/jpeg:https://lazioeventi.com/wp-content/uploads/2020/
 06/Un-cerchio-di-favole.jpg
CATEGORIES:Varie
LOCATION:Cassino\, Comune di Cassino\, Cassino\, Frosinone\, Lazio\, Italia
GEO:41.4929518;13.830372300000022
X-APPLE-STRUCTURED-LOCATION;VALUE=URI;X-ADDRESS=Comune di Cassino\, Cassino
 \, Frosinone\, Lazio\, Italia;X-APPLE-RADIUS=100;X-TITLE=Cassino:geo:41.49
 29518,13.830372300000022
END:VEVENT
BEGIN:VTIMEZONE
TZID:Europe/Rome
X-LIC-LOCATION:Europe/Rome
BEGIN:DAYLIGHT
DTSTART:20200329T030000
TZOFFSETFROM:+0100
TZOFFSETTO:+0200
TZNAME:CEST
END:DAYLIGHT
END:VTIMEZONE
END:VCALENDAR