BEGIN:VCALENDAR
VERSION:2.0
PRODID:-//wp-events-plugin.com//7.2.3.1//EN
TZID:Europe/Rome
X-WR-TIMEZONE:Europe/Rome
BEGIN:VEVENT
UID:29860@lazioeventi.com
DTSTART;TZID=Europe/Rome:20220219T160000
DTEND;TZID=Europe/Rome:20220219T170000
DTSTAMP:20220214T111519Z
URL:https://lazioeventi.com/eventi/un-naso-tutto-rosso-a-carnevale-ogni-ri
 ma-vale
SUMMARY:Un Naso tutto rosso - A carnevale ogni rima vale - Roma - 19 Febbra
 io 22 16:00
DESCRIPTION:Sabato 19 febbraio\, alle 16\,00\, presso il teatro Ar.Ma via R
 uggero di Lauria\, 22 (zona Prati) va in scena lo spettacolo per bambini "
 Un Naso tutto rosso - A carnevale ogni rima vale" di e con Massimiliano Ma
 iucchi e Mimo Sasha.\n\nBambini\, vi aspettiamo mascherati!’\n\nUn naso 
 tutto rosso” è uno spettacolo di arte varia che da oltre 20 anni l’au
 tore Massimiliano Maiucchi\, propone nelle scuole\, nelle biblioteche\, ne
 i festival letterari e nelle piazze di Roma e d’Italia.\n\nMassimiliano 
 Maiucchi da oltre 30 anni lavora con i bambini\, è un clown\, un ludoteca
 rio\, un giocoliere\, un cantastorie\, uno scrittore di filastrocche e di 
 canzoni\, un attore di teatro e di televisione.\n\nIn questi anni ha svilu
 ppato un linguaggio comico\, fantasioso e ludico e lo ha applicato ai suoi
  giochi\, alle sue clownerie e ai suoi racconti. L’uso della rima lo ha 
 portato a scrivere centinaia di filastrocche\, molte delle quali pubblicat
 e nei suoi libri.\n\nNel suo spettacolo la filastrocca viene mimata\, cant
 ata e drammatizzata con il supporto di libroni pop-up\, guanti animati\, o
 ggetti e pupazzi\, realizzati da Silvia Micali e Diana Doveri.\n~~~\n\nDur
 ata: 50 minuti\nEtà: 2-8 anni\nCosto: 8 euro adulti e 6 euro bambini\nPre
 notazione obbligatoria: info@eventibambinidiroma.it | 3383609134 https:/
 /www.eventibambinidiroma.it/\nInstagram https://www.instagram.com/eventiba
 mbinidiroma/\nFacebook https://www.facebook.com/EventiBambinidiRoma
ATTACH;FMTTYPE=image/jpeg:https://lazioeventi.com/wp-content/uploads/2022/
 02/a-carnevale-ogni-rima-vale.jpg
CATEGORIES:Musica, Spettacoli e Danza nel Lazio
LOCATION:Roma\, Via Leopardi\, Roma\, Roma\, Lazio\, Italia
GEO:41.8942;12.5017
X-APPLE-STRUCTURED-LOCATION;VALUE=URI;X-ADDRESS=Via Leopardi\, Roma\, Roma\
 , Lazio\, Italia;X-APPLE-RADIUS=100;X-TITLE=Roma:geo:41.8942,12.5017
END:VEVENT
BEGIN:VTIMEZONE
TZID:Europe/Rome
X-LIC-LOCATION:Europe/Rome
BEGIN:STANDARD
DTSTART:20211031T020000
TZOFFSETFROM:+0200
TZOFFSETTO:+0100
TZNAME:CET
END:STANDARD
END:VTIMEZONE
END:VCALENDAR