BEGIN:VCALENDAR
VERSION:2.0
PRODID:-//wp-events-plugin.com//7.2.3.1//EN
TZID:Europe/Rome
X-WR-TIMEZONE:Europe/Rome
BEGIN:VEVENT
UID:43294@lazioeventi.com
DTSTART;TZID=Europe/Rome;VALUE=DATE:20251205
DTEND;TZID=Europe/Rome;VALUE=DATE:20260107
DTSTAMP:20251204T214159Z
URL:https://lazioeventi.com/eventi/un-natala-da-favola
SUMMARY:Un Natale da Favola - Nemi - 5 Dicembre 25 00:00
DESCRIPTION:A Nemi un "Natale da Favola" con Oltre 100 Installazioni Lumino
 se\nNemi si trasforma in un borgo incantato per le festività natalizie co
 n "Nemi Natale da Favola"\, un grande evento che promette di far vivere la
  magia delle fiabe a visitatori di ogni età. L'iniziativa\, promossa dal 
 Comune di Nemi\, è iniziata il 1° Dicembre e offre un'esperienza complet
 amente gratuita.\n\nLa Magia delle Fiabe Prende Vita\nIl borgo dei Castell
 i Romani è pronto a stupire grazie a un allestimento spettacolare:\n\n 	O
 ltre 100 Installazioni Luminose: Il centro storico e le aree circostanti s
 ono stati trasformati da più di 100 installazioni luminose e scenografich
 e.\n 	Itinerario Emozionale: L'atmosfera fiabesca è creata da un percorso
  tematico dedicato alle fiabe più amate\, come Alice nel Paese delle Mera
 viglie\, Peter Pan e Pinocchio.\n 	Per Tutti: L'itinerario\, pensato per f
 amiglie\, bambini e visitatori di ogni età\, rimarrà visitabile per tutt
 a la durata delle festività.\n\nL'evento è realizzato in collaborazione 
 con This Is Wonderland\, un format originale firmato Lux Eventi\, e vuole 
 unire tradizione\, fantasia e innovazione.\n\nCome ha dichiarato il Sindac
 o di Nemi\, Alberto Bertucci\, l'iniziativa natalizia è anche una prova d
 ell'impegno del borgo\, che sarà candidato nel 2026 al concorso nazionale
  "Borgo dei Borghi" per il titolo di Borgo più bello d'Italia.\n\nL'itine
 rario fiabesco è arricchito anche da altri appuntamenti come:\n\n 	Mostre
  d’arte e iniziative culturali.\n 	Il suggestivo presepe a Palazzo Ruspo
 li.\n 	Concerti.\n 	La tradizionale discesa della Befana dal Castello\, un
 o dei momenti più attesi dai bambini.\n\nL'inaugurazione del Parco di Nat
 ale è avvenuta venerdì 5 dicembre alle 17:30 in Piazza Roma.\n\nL'evento
  è un appuntamento imperdibile per chi desidera vivere la magia delle fes
 te in un borgo che sa trasformarsi in un vero scenario in cui la fantasia 
 diventa realtà.
ATTACH;FMTTYPE=image/jpeg:https://lazioeventi.com/wp-content/uploads/2025/
 12/natale-favola-nemi-e1764884493789.jpg
CATEGORIES:Sport, Tempo Libero e Divertimento nel Lazio
LOCATION:Nemi\, Comune\, Nemi\, Roma\, Lazio\, Italia
GEO:41.7196;12.7145
X-APPLE-STRUCTURED-LOCATION;VALUE=URI;X-ADDRESS=Comune\, Nemi\, Roma\, Lazi
 o\, Italia;X-APPLE-RADIUS=100;X-TITLE=Nemi:geo:41.7196,12.7145
END:VEVENT
BEGIN:VTIMEZONE
TZID:Europe/Rome
X-LIC-LOCATION:Europe/Rome
BEGIN:STANDARD
DTSTART:20251026T020000
TZOFFSETFROM:+0200
TZOFFSETTO:+0100
TZNAME:CET
END:STANDARD
END:VTIMEZONE
END:VCALENDAR