BEGIN:VCALENDAR
VERSION:2.0
PRODID:-//wp-events-plugin.com//7.2.3.1//EN
TZID:Europe/Rome
X-WR-TIMEZONE:Europe/Rome
BEGIN:VEVENT
UID:30154@lazioeventi.com
DTSTART;TZID=Europe/Rome:20220324T210000
DTEND;TZID=Europe/Rome:20220327T000000
DTSTAMP:20220321T100059Z
URL:https://lazioeventi.com/eventi/un-phon-rotto-allhotel-cristallo
SUMMARY:Un Phon Rotto all’Hotel Cristallo - Roma - 24 Marzo 22 21:00
DESCRIPTION:24-27 marzo 2022\nTeatro Le Salette\nVicolo del Campanile\, 14\
 nLa compagnia Libera…Mente \npresenta \n“Un Phon Rotto all’Hotel Cri
 stallo”\ntesto originale di \nSimone Dabraio e Fabio Serviziati\nregia d
 i Fabio Serviziati\ncon\nAnna Baldella\, Simone Dabraio\, Massimo Di Brino
 \, Mauro Di Lelio\, \nRocco Ditella\, Giada Durastante\, Donatella Pili\, 
 Fabio Serviziati\nGuest Star\nDavide Guarnaccia\, Jingle “Saporelli”\,
  Ester \n\nUn uomo ordinario si trova ad alloggiare in un hotel\, il phon 
 che ha in camera non funziona e chiede che venga sostituito. Perché nessu
 no vuole fargli avere il suo phon? Perché gli ospiti dell’hotel sono co
 sì sinistri? Cosa c’entra tutto questo con “Saporelli”\, quella vec
 chia soap opera che non va più in onda da tanti anni?\n\n“Un Phon Rotto
  all’Hotel Cristallo” nasce dall’esigenza di coniugare le atmosfere 
 di alcuni filoni del genere giallo ad un umorismo contemporaneo\, dissacra
 nte e a tratti grottesco. Ne deriva una “commedia con mistero”. Nessun
  investigatore con omicidio impossibile: il mistero ruota attorno ad un ph
 on rotto.\nTeatro “Le Salette”\, vicolo del Campanile\, 14\nOrari: \nd
 al 24 al 26 marzo ore 21 \n27 marzo ore 18\nBiglietti:\nBiglietto unico 10
  euro\nLa compagnia teatrale “Libera…Mente”\nE finalmente i teatri h
 anno riaperto. \nNella valigia dell’attore abbiamo trovato copioni\, mas
 chere\, vestiti\, colori\, musica. \nMa guarda un po'… scopri scopri mi 
 capita tra le mani un copione nuovo\, ancora ben conservato\, senza sbavat
 ure. Leggo il titolo:\n“Un Phon Rotto all’Hotel Cristallo”\nScritto 
 da Fabio Serviziati e Simone Dabraio.\nE chi saranno questi due nuovi dram
 maturghi?\nE che sarà. La curiosità mi prende e mi tuffo nella lettura. 
 \nFoglio dopo foglio\, battuta dopo battuta vengo colto da improvvise emoz
 ioni\, sensazioni strane\, curiosità\, bella scrittura\, nuova\, original
 e\, divertente\, a volte anche comica. \nMa che bravi questi due giovani a
 utori. \nMa sì\, certo che li conosciamo! Fanno parte della compagnia tea
 trale “Libera…Mente”. Ma non erano due attori? \nSì\, erano già pr
 esenti in questa bella compagnia teatrale da diversi anni ed ora si ciment
 ano in questa magnifica scrittura.\nUn copione tenuto nella valigia per du
 e anni\, due lunghi anni di pandemia\, che finalmente prende forma e sosta
 nza.\nProposto quindi alla stessa compagnia “Libera…Mente” che ha co
 lto con grande entusiasmo questa nuova sfida dopo due anni di lontananza d
 alle scene teatrali della città di Roma.\nE pensare che è stata presente
  sin dal lontano 2011 con dei lavori importanti\, partendo dai teatri di p
 eriferia\, come momento di aggregazione giovanile e poi esibendosi su palc
 oscenici della capitale degni di rispetto\, raggiungendo un meritato succe
 sso.\nGiovani alle prime esperienze\, ma pieni di passione per il teatro\,
  volenterosi di apprendere e di sperimentare. \nDisciplina\, rigore\, seri
 età\, professionalità\, sono le caratteristiche dei componenti della com
 pagnia.\nMolto studio\, alcuni in accademia\, altri in possesso di diploma
  di laurea con specializzazione in storia del teatro e altri ancora con st
 udio di sceneggiatura. Spettacoli vari\, di autori classici e moderni. \n 
 Un lungo percorso pieno di ostacoli ma anche di entusiasmo\, con la voglia
  di mettersi in gioco e\, soprattutto\, con la mente sgombra\, libera dagl
 i schemi del teatro tipico\, aperta ad un pizzico di contaminazione con al
 tre realtà che\, unita al rispetto per le basi tradizionali\, rende le pe
 rformance della compagnia sempre fresche e divertenti\, sia per gli attori
  che per il pubblico.\nIl direttore artistico\nRocco Ditella\n
ATTACH;FMTTYPE=image/jpeg:https://lazioeventi.com/wp-content/uploads/2022/
 03/locandina-cristallo.jpg
CATEGORIES:Musica, Spettacoli e Danza nel Lazio
LOCATION:Roma\, Via Leopardi\, Roma\, Roma\, Lazio\, Italia
GEO:41.8942;12.5017
X-APPLE-STRUCTURED-LOCATION;VALUE=URI;X-ADDRESS=Via Leopardi\, Roma\, Roma\
 , Lazio\, Italia;X-APPLE-RADIUS=100;X-TITLE=Roma:geo:41.8942,12.5017
END:VEVENT
BEGIN:VTIMEZONE
TZID:Europe/Rome
X-LIC-LOCATION:Europe/Rome
BEGIN:STANDARD
DTSTART:20211031T020000
TZOFFSETFROM:+0200
TZOFFSETTO:+0100
TZNAME:CET
END:STANDARD
END:VTIMEZONE
END:VCALENDAR