BEGIN:VCALENDAR
VERSION:2.0
PRODID:-//wp-events-plugin.com//7.2.3.1//EN
TZID:Europe/Rome
X-WR-TIMEZONE:Europe/Rome
BEGIN:VEVENT
UID:43129@lazioeventi.com
DTSTART;TZID=Europe/Rome:20251122T100000
DTEND;TZID=Europe/Rome:20251123T180000
DTSTAMP:20251118T130405Z
URL:https://lazioeventi.com/eventi/una-dimora-storica-un-museo-due-gioiell
 i-in-uno
SUMMARY:Una Dimora Storica\, un Museo… Due gioielli in Uno! - Priverno - 
 22 Novembre 25 10:00
DESCRIPTION:In occasione delle Giornate delle Dimore Storiche del Lazio: il
  Museo Archeologico Carlo Cicala di Priverno\, organizza: "Una Dimora Stor
 ica\, un Museo… Due gioielli in Uno!".\n\nAnche quest'anno il Palazzo Gu
 arini - Antonelli\, custode di storia e di bellezza\, aprirà le sue porte
  per condurre il pubblico in un percorso carico di emozioni con una visita
  guidata alla scoperta della storia e della bellezza del Palazzo sia sabat
 o 22 che domenica 23 novembre dalle 10.00 alle 13.00 e dalle 15.00 alle 18
 .00. \n\nUn'occasione unica per ammirare la splendida sede del Museo Arche
 ologico Carlo Cicala di Priverno\, custode di secoli di storia.\nInoltre n
 ella giornata di domenica 23 novembre si terranno ben due visite guidate g
 ratuite alle ore 11.00 e alle ore 15.30.\n\nL'appuntamento\nÈ per sabato 
 22 e domenica 23 novembre. Dato che i posti sono limitati\, per le visite 
 guidate è consigliata la prenotazione da effettuare via email all'indiriz
 zo musei.priverno@lemacchinecelibi.coop o contattando i numeri 3472330723 
 / 0773912306. \n
ATTACH;FMTTYPE=image/jpeg:https://lazioeventi.com/wp-content/uploads/2025/
 11/giornata-delle-dimore-storiche-del-lazio-2025.jpg
CATEGORIES:Arte e Cultura nel Lazio
LOCATION:Priverno\, Comune di Priverno\, Priverno\, Latina\, Lazio\, Italia
GEO:41.4734;13.1817
X-APPLE-STRUCTURED-LOCATION;VALUE=URI;X-ADDRESS=Comune di Priverno\, Priver
 no\, Latina\, Lazio\, Italia;X-APPLE-RADIUS=100;X-TITLE=Priverno:geo:41.47
 34,13.1817
END:VEVENT
BEGIN:VTIMEZONE
TZID:Europe/Rome
X-LIC-LOCATION:Europe/Rome
BEGIN:STANDARD
DTSTART:20251026T020000
TZOFFSETFROM:+0200
TZOFFSETTO:+0100
TZNAME:CET
END:STANDARD
END:VTIMEZONE
END:VCALENDAR