BEGIN:VCALENDAR
VERSION:2.0
PRODID:-//wp-events-plugin.com//7.2.3.1//EN
TZID:Europe/Rome
X-WR-TIMEZONE:Europe/Rome
BEGIN:VEVENT
UID:37540@lazioeventi.com
DTSTART;TZID=Europe/Rome:20240324T180000
DTEND;TZID=Europe/Rome:20240324T200000
DTSTAMP:20231025T113808Z
URL:https://lazioeventi.com/eventi/una-donna-fenomenale
SUMMARY:Una Donna fenomenale - Fiuggi - 24 Marzo 24 18:00
DESCRIPTION:Domenica 24 marzo ore 18\,00 NELLIE BLY\, UNA DONNA FENOMENALE 
 Tdo\nUno spettacolo teatrale che mette al centro della scena una sola donn
 a e la sua testarda voglia di imporsi in una società maschilista come que
 lla americana tra la fine dell’ottocento e la prima parte del 1900. Test
 imone di un periodo incredibile tra J. F. Kennedy\, Pulitzer\, e molti alt
 ri protagonisti di un’America che stava diventando il centro del mondo\,
  Nelly Bly\, all’anagrafe Elisabeth Jane Cochran è stata la prima giorn
 alista a lavorare sotto falso nome\, rivelando al mondo la brutalità del 
 manicomio femminile di Blackwell Island\, facendosi ricoverare per dieci g
 iorni come malata. Indagine che ispirò successivamente il film: “Qualcu
 no volò sul nido del Cuculo”. Il suo nome è legato anche ad un giro de
 l mondo da record\, completato in soli 72 giorni\, emulando Phileas Fogg\,
  protagonista del romanzo di Jules Verne Il giro del mondo in 80 giorni. M
 odello per l’emancipazione delle donne nel 1895 Nellie Bly si sposò con
  il milionario Robert Seaman e dopo la sua morte divenne capitana d’indu
 stria. Tra i suoi primati\, aggiunse anche quello di primo corrispondente 
 di guerra donna. All’età di 57 anni\, il 27 gennaio 1922\, Elizabeth mo
 rì di polmonite al St. Mark’s Hospital di New York. Poche settimane pri
 ma della sua scomparsa\, lasciò detto: «Non ho mai scritto una parola ch
 e non provenisse dal mio cuore. E mai lo farò».Una storia emozionante\, 
 ricca di continui colpi di scena per uno spettacolo teatrale coinvolgente\
 n\nSabato 27 aprile 2024 ore 21\,00 LA BAITA Compagnia Cupido teatro\nUna 
 alienante ritratto della società contemporanea raccontato durante un week
  end in campagna di due coppie- La vicenda si svolge all’interno di una 
 baita. A scatenare una serie di eventi drammatici l’omicidio di un uomo 
 avvenuto in un albergo del paese di montagna vicino l’abitazione dei gio
 vani protagonisti. Per una sfortunata serie di coincidenze a restarne coin
 volta sarà la moglie di uno dei quattro\, risultata poi completamente est
 ranea all’accaduto ma ciò basterà a determinare lo sfaldamento delle c
 onvinzioni con cui le due coppie avevano costruito la loro esistenza.
ATTACH;FMTTYPE=image/jpeg:https://lazioeventi.com/wp-content/uploads/2023/
 10/Stracciecanovacci.jpg
CATEGORIES:Musica, Spettacoli e Danza nel Lazio
LOCATION:Fiuggi\, Comune di Fiuggi\, Fiuggi\, Frosinone\, Lazio\, Italia
GEO:41.8039;13.2218
X-APPLE-STRUCTURED-LOCATION;VALUE=URI;X-ADDRESS=Comune di Fiuggi\, Fiuggi\,
  Frosinone\, Lazio\, Italia;X-APPLE-RADIUS=100;X-TITLE=Fiuggi:geo:41.8039,
 13.2218
END:VEVENT
BEGIN:VTIMEZONE
TZID:Europe/Rome
X-LIC-LOCATION:Europe/Rome
BEGIN:STANDARD
DTSTART:20231029T020000
TZOFFSETFROM:+0200
TZOFFSETTO:+0100
TZNAME:CET
END:STANDARD
END:VTIMEZONE
END:VCALENDAR