BEGIN:VCALENDAR
VERSION:2.0
PRODID:-//wp-events-plugin.com//7.2.3.1//EN
TZID:Europe/Rome
X-WR-TIMEZONE:Europe/Rome
BEGIN:VEVENT
UID:30006@lazioeventi.com
DTSTART;TZID=Europe/Rome:20220213T180000
DTEND;TZID=Europe/Rome:20220213T193000
DTSTAMP:20220308T101728Z
URL:https://lazioeventi.com/eventi/una-famiglia-in-quarantena
SUMMARY:Una famiglia in quarantena - Veroli - 13 Febbraio 22 18:00
DESCRIPTION:Una famiglia italiana\, costretta dall'emergenza sanitaria e da
 l lockdown a vivere forzatamente sotto lo stesso tetto\, scopre ben presto
  i limiti della convivenza. Via via che i giorni passano\, si affacciano s
 ituazioni a volte nuove\, a volte che si credevano risolte\, ma che\, comp
 resse fra le quattro mura\, esplodono e rendono ancor più difficile quell
 e rinunce alle nostre libertà che invece la famiglia Forchetta avrà l’
 obbligo morale di accettare.\n\nQuesta è solo un’anticipazione di “Un
 a famiglia in quarantena”\, presentata dall’ “Allegra brigata” di 
 Sora\, una commedia in due atti di Federico Mantova\, alla quale potremo a
 ssistere Domenica 13 marzo alle ore 18:00 al Teatro Comunale Veroli.\n\nUm
 oristico\, ma anche umano e con una vena di malinconia\, lo spettacolo è 
 inscenato dalla regia di Vincenzo La Posta\, e vede coinvolti diversi atto
 ri chiamati ad interpretare la famiglia ai tempi della pandemia del 2020: 
 Antonio Baldesarra\, Carolina Natalizio\, Daniele Di Ruscio\, Nicole Bened
 etti\, Vittorio Taglione\, Stephan Cellupica\, Paola Greco\, Cristina Luca
 relli\, Marina Poverini\, Cesare Gabriele.\n\nUn periodo che ha segnato la
  nostra vita più recente\, che forse abbiamo ancora bisogno di capire ed 
 elaborare insieme. Il teatro è anche questo.\n\nBiglietto intero: € 7\,
 00\n\nBiglietto ridotto: € 5\,00 (Under 18/ Over 65)
ATTACH;FMTTYPE=image/jpeg:https://lazioeventi.com/wp-content/uploads/2022/
 03/Una-famiglia-in-quarantena.jpg
CATEGORIES:Musica, Spettacoli e Danza nel Lazio
LOCATION:Veroli\, Comune di Veroli\, Veroli\, Frosinone\, Lazio\, Italia
GEO:41.6911;13.4178
X-APPLE-STRUCTURED-LOCATION;VALUE=URI;X-ADDRESS=Comune di Veroli\, Veroli\,
  Frosinone\, Lazio\, Italia;X-APPLE-RADIUS=100;X-TITLE=Veroli:geo:41.6911,
 13.4178
END:VEVENT
BEGIN:VTIMEZONE
TZID:Europe/Rome
X-LIC-LOCATION:Europe/Rome
BEGIN:STANDARD
DTSTART:20211031T020000
TZOFFSETFROM:+0200
TZOFFSETTO:+0100
TZNAME:CET
END:STANDARD
END:VTIMEZONE
END:VCALENDAR