BEGIN:VCALENDAR
VERSION:2.0
PRODID:-//wp-events-plugin.com//7.2.3.1//EN
TZID:Europe/Rome
X-WR-TIMEZONE:Europe/Rome
BEGIN:VEVENT
UID:40193@lazioeventi.com
DTSTART;TZID=Europe/Rome:20241102T100000
DTEND;TZID=Europe/Rome:20241116T190000
DTSTAMP:20241031T092425Z
URL:https://lazioeventi.com/eventi/una-mostra-da-paura
SUMMARY:Una Mostra da Paura - Ariccia - 2 Novembre 24 10:00
DESCRIPTION:“Una mostra da paura” è il titolo della esposizione d’ar
 te a cui parteciperanno vari artisti a partire dal 2 novembre fino al 16. 
 La mostra sarà allestita presso la Galleria Art Saloon di Ariccia. Missio
 n dell’iniziativa culturale è far emergere le paure ed indagare l’esp
 erienza del lato oscuro attraverso le opere di numerosi artisti nazionali 
 e internazionali\, che hanno saputo tradurre in forme artistiche il loro m
 ondo interiore e le proprie inquietudini. Questo tema\, da sempre connatur
 ato alla natura umana\, diventa il fil rouge di una serie di opere che esp
 lorano emozioni profonde e si connotano esprimendosi con linguaggi molto p
 ersonali. Ne scaturisce una narrazione affascinante che declina il tema at
 traverso molteplici sfumature. Tra gli obiettivi quello di indurre ad affr
 ontare le paure ed a trarre forza dalle speranze che ci accomunano tutti. 
 Tra i protagonisti\, Kri Art presenta “Metamorfosi”\, (in copertina de
 l presente articolo un estratto dell’opera)\,  un’opera che riflette s
 ulla necessità di cambiamento e sulla paura di non riuscire a farcela. Va
 lentina Dedola affronta il tema della “Cherofobia”\, la paura della fe
 licità\, mentre Valentina Baltolu (la sua opera nella foto sotto\, in cor
 nice dorata) introduce elementi della tradizione sarda con la sua opera 
 “Enigma”.\n\nIsabella Anghelache\, con “The Struggle Soul”\, offre
  uno sguardo sulle paure generate da incomprensioni e disagi.\n\nINGRESSO 
 LIBERO\n\ndal 2 al 16 novembre 2024\nOrari : martedì a sabato\, dalle 10:
 00 alle 13:00 e dalle 15:30 alle 19:00\,\nchiusura domenica e lunedì.
ATTACH;FMTTYPE=image/jpeg:https://lazioeventi.com/wp-content/uploads/2024/
 10/Locandina-mostra.jpg
CATEGORIES:Arte e Cultura nel Lazio
LOCATION:Ariccia\, Comune\, Ariccia\, Roma\, Lazio\, Italia
GEO:41.72;12.671
X-APPLE-STRUCTURED-LOCATION;VALUE=URI;X-ADDRESS=Comune\, Ariccia\, Roma\, L
 azio\, Italia;X-APPLE-RADIUS=100;X-TITLE=Ariccia:geo:41.72,12.671
END:VEVENT
BEGIN:VTIMEZONE
TZID:Europe/Rome
X-LIC-LOCATION:Europe/Rome
BEGIN:STANDARD
DTSTART:20241027T020000
TZOFFSETFROM:+0200
TZOFFSETTO:+0100
TZNAME:CET
END:STANDARD
END:VTIMEZONE
END:VCALENDAR