BEGIN:VCALENDAR
VERSION:2.0
PRODID:-//wp-events-plugin.com//7.2.3.1//EN
TZID:Europe/Rome
X-WR-TIMEZONE:Europe/Rome
BEGIN:VEVENT
UID:35923@lazioeventi.com
DTSTART;TZID=Europe/Rome:20230621T203000
DTEND;TZID=Europe/Rome:20230621T223000
DTSTAMP:20230614T131711Z
URL:https://lazioeventi.com/eventi/una-squadra-il-film
SUMMARY:Una Squadra\, il film - Roma - 21 Giugno 23 20:30
DESCRIPTION:Zavattini live presenta\n\nUNA SQUADRA - IL FILM\ndi DOMENICO P
 ROCACCI\n\nalla presenza dell'autore\n\nPRESENTAZIONE DEL PREMIO ZAVATTINI
  2023/24\n\nIngresso gratuito\n\nUn appuntamento per approfondire con l’
 autore e produttore Domenico Procacci un’originale operazione editoriale
 \, che comprende il film\, una docu-serie e un libro dedicati alla naziona
 le italiana di tennis e in particolare alla finale di Coppa Davis del 1976
 \, che si giocò a Santiago del Cile tra molte polemiche politiche. E per 
 parlare dell’utilizzazione del materiale d’archivio\, che è al centro
  del Premio Cesare Zavattini\, il cui nuovo Bando sarà presentato nel cor
 so dell’iniziativa.\n\nPresentato al Torino Film Festival\, “Una squad
 ra - Il film” di Domenico Procacci ha anticipato sul grande schermo la s
 erie documentaria in sei episodi con lo stesso titolo\, trasmessa da Sky. 
 Al centro\, vi è il racconto delle cinque stagioni in cui la nazionale it
 aliana di tennis\, guidata da Pietrangeli\, con Panatta\, Barazzutti\, Ber
 tolucci e Zugarelli\, giunse nella finale di Coppa Davis\, e in particolar
 e di quella giocata a Santiago nel Cile nel 1976\, l’unica vinta\, svolt
 asi tra molte polemiche politiche\, visto che il paese ospitante aveva da 
 poco vissuto il drammatico golpe del dittatore Pinochet. Attraverso le int
 erviste ai protagonisti\, condotte con sapiente complicità\, e uno straor
 dinario materiale di repertorio\, talvolta inedito\, che ricostruisce il c
 ontesto e il clima dell’epoca\, "Una Squadra” conduce una narrazione c
 oinvolgente\, dentro e fuori il campo di gioco\, anche grazie al montaggio
  di grande efficacia\, cogliendo il carattere e le sfumature di personalit
 à molto diverse tra loro e non prive di autoironia.\n\nIl film\, introdot
 to dall’autore Domenico Procacci\, sarà proiettato mercoledì 21 giugno
 \, alle 20.30\, presso lo Spazio SCENA\, nell’ambito di Zavattini live\,
  il ciclo di iniziative territoriali di presentazione del Premio Cesare Za
 vattini 2023/24. E’ infatti on line il Bando per partecipare all’VIII 
 edizione del Premio\, che sarà presentato da Vincenzo Vita\, Presidente d
 ella Fondazione AAMOD\, che promuove l’iniziativa\, da Antonio Medici e 
 Aurora Palandrani\, Direttore e Coordinatrice del Premio Zavattini. Il Ban
 do è rivolto a giovani filmmaker\, professionisti e non\, di qualsiasi na
 zionalità\, che abbiano un’età compresa tra i 18 e i 35 anni. Per part
 ecipare\, è richiesto l’invio entro il 30 luglio 2023 di un progetto di
  cortometraggio di massimo 15 minuti\, che preveda il riuso\, anche parzia
 le\, di materiale filmico d’archivio. Una Giuria composta da cinque impo
 rtanti personalità del cinema italiano selezionerà tra i progetti perven
 uti nove finalisti\, i cui  autori e autrici saranno ammessi gratuitamente
  a un Workshop di formazione e sviluppo\, che si svolgerà tra settembre e
  dicembre 2023. Durante il Workshop\, anche con l’aiuto di un tutoring i
 ndividuale\, i partecipanti potranno approfondire il proprio progetto fino
  alla realizzazione del relativo dossier e del teaser\, da presentare in u
 n pitch finale alla Giuria\, la quale sceglierà i tre progetti vincitori.
  Questi\, oltre a poter utilizzare liberamente\, per usi culturali\, il ma
 teriale filmico dell’Aamod e degli archivi partner\, riceveranno servizi
  gratuiti di supporto per la loro realizzazione e il riconoscimento di 2.0
 00 euro per ciascun cortometraggio\, una volta terminato. La Giuria assegn
 erà anche una Menzione speciale dedicata a Chiara Rigione\, giovane filmm
 aker vincitrice della III edizione del Premio Zavattini\, prematuramente s
 comparsa\n\nQuest’anno il Premio propone anche una nuova sezione\, Ateli
 er Zavattini\, che coinvolgerà tutti i partecipanti al Workshop in un’e
 sperienza collettiva di ricerca di materiali\, ideazione e realizzazione d
 i interviste audiovisive sulle opere e le attività di Cesare Zavattini\, 
 in modo da avviare la costruzione di un fondo multimediale dedicato al gra
 nde scrittore e cineasta. In ogni edizione del Premio sarà scelto focus s
 pecifico: si comincia indagando il film La Veritàaaa (1982)\, l’unico d
 iretto e interpretato da Zavattini\, ricostruendone la genesi e intervista
 ndone i collaboratori.
ATTACH;FMTTYPE=image/jpeg:https://lazioeventi.com/wp-content/uploads/2023/
 06/una-squadra.jpg
CATEGORIES:Musica, Spettacoli e Danza nel Lazio
LOCATION:Roma\, Via Leopardi\, Roma\, Roma\, Lazio\, Italia
GEO:41.8942;12.5017
X-APPLE-STRUCTURED-LOCATION;VALUE=URI;X-ADDRESS=Via Leopardi\, Roma\, Roma\
 , Lazio\, Italia;X-APPLE-RADIUS=100;X-TITLE=Roma:geo:41.8942,12.5017
END:VEVENT
BEGIN:VTIMEZONE
TZID:Europe/Rome
X-LIC-LOCATION:Europe/Rome
BEGIN:DAYLIGHT
DTSTART:20230326T030000
TZOFFSETFROM:+0100
TZOFFSETTO:+0200
TZNAME:CEST
END:DAYLIGHT
END:VTIMEZONE
END:VCALENDAR