BEGIN:VCALENDAR
VERSION:2.0
PRODID:-//wp-events-plugin.com//7.2.3.1//EN
TZID:Europe/Rome
X-WR-TIMEZONE:Europe/Rome
BEGIN:VEVENT
UID:29335@lazioeventi.com
DTSTART;TZID=Europe/Rome:20211126T204500
DTEND;TZID=Europe/Rome:20211126T231500
DTSTAMP:20211123T100416Z
URL:https://lazioeventi.com/eventi/uniamo-i-puntini-e-scopriamo-una-costel
 lazione
SUMMARY:Uniamo i puntini… e scopriamo una costellazione! - Rocca di Papa 
 - 26 Novembre 21 20:45
DESCRIPTION:Venerdì 26 novembre alle ore 20:45 presso il Parco Astronomico
  “Livio Gratton” di Rocca di Papa – nel cuore del Parco Regionale de
 i Castelli Romani – si terrà l’evento “Uniamo i puntini… e scopri
 amo una costellazione!” organizzato dall’Associazione Tuscolana di Ast
 ronomia (ATA) e dalla Città di Rocca di Papa\, con il patrocinio della Re
 gione Lazio.\n\nL’evento\, che rientra nell’ambito dell’iniziativa 
 “Vivi Rocca di Papa”\, permetterà ad adulti e bambini di immergersi n
 ell’affascinante mondo dell’astronomia e di vivere una serata all’in
 segna della scoperta del cielo e dell’emozione.\n\nIn particolare\, sott
 o la cupola di 7 metri di diametro del Planetario fisso\, adulti e bambini
  potranno scoprire pian piano una costellazione\, attraverso il racconto d
 elle caratteristiche degli interessanti e curiosi oggetti celesti che ne f
 anno parte\, abbinato alla proiezione di foto astronomiche spettacolari e 
 di video immersivi a 360 gradi.\n\nAl termine dello spettacolo multimedial
 e di astronomia il pubblico potrà visitare le sale espositive e ai giardi
 ni dotati di strumenti astronomici (meridiane\, notturlabi\, sfere armilla
 ri) e osservare a occhio nudo e al telescopio tutti gli oggetti celesti vi
 sibili\, con gli esperti operatori dell’Associazione. In caso di maltemp
 o\, l’osservazione sarà sostituita da una visita al telescopio alloggia
 to nella cupola principale\, con spiegazioni sull’attività di ricerca s
 volta dall’Associazione.\n\nINFO E PRENOTAZIONI\n\nPer partecipare è ob
 bligatorio prenotarsi ENTRO le ore 11:00 di venerdì 26 novembre (fino a e
 saurimento posti) compilando il modulo su https://lnx.ataonweb.it/wp/event
 s/uniamo-i-puntini-e-scopriamo-una-costellazione-2/\n\nContributo visita g
 uidata:\n€ 8\,00 intero\n€ 6\,00 per bambini dai 6 ai 12 anni e per i 
 cittadini di Rocca di Papa.\n\nL’accesso (su prenotazione) sarà consent
 ito esclusivamente alle persone (se di età superiore a 12 anni) in posses
 so di certificazione verde (green-pass) COVID-19\, da esibire all’ingres
 so.
ATTACH;FMTTYPE=image/jpeg:https://lazioeventi.com/wp-content/uploads/2021/
 11/Stelle-al-planetario.png
CATEGORIES:Varie
LOCATION:Rocca di Papa\, Comune di Rocca di Papa\, Rocca di Papa\, Roma\, L
 azio\, Italia
GEO:41.762;12.7081
X-APPLE-STRUCTURED-LOCATION;VALUE=URI;X-ADDRESS=Comune di Rocca di Papa\, R
 occa di Papa\, Roma\, Lazio\, Italia;X-APPLE-RADIUS=100;X-TITLE=Rocca di P
 apa:geo:41.762,12.7081
END:VEVENT
BEGIN:VTIMEZONE
TZID:Europe/Rome
X-LIC-LOCATION:Europe/Rome
BEGIN:STANDARD
DTSTART:20211031T020000
TZOFFSETFROM:+0200
TZOFFSETTO:+0100
TZNAME:CET
END:STANDARD
END:VTIMEZONE
END:VCALENDAR