BEGIN:VCALENDAR
VERSION:2.0
PRODID:-//wp-events-plugin.com//7.2.3.1//EN
TZID:Europe/Rome
X-WR-TIMEZONE:Europe/Rome
BEGIN:VEVENT
UID:40152@lazioeventi.com
DTSTART;TZID=Europe/Rome:20241101T113000
DTEND;TZID=Europe/Rome:20241110T190000
DTSTAMP:20241029T080038Z
URL:https://lazioeventi.com/eventi/universi-estremi-di-ilian-rachov-e-tsve
 telina-rusalieva
SUMMARY:Universi Estremi di Ilian Rachov e Tsvetelina Rusalieva - Roma - 1 
 Novembre 24 11:30
DESCRIPTION:La Galleria Internazionale Area Contesa Arte\, di Via Margutta 
 90 a Roma\, ospiterà la bi-personale “UNIVERSI ESTREMI” degli artisti
  bulgari Ilian Rachov e  Tsvetelina Rusalieva  dal 1 novembre al 10 nove
 mbre 2024\, con testi critici  di Alfio Borghese e Mario Salvo.\n\nIl ver
 nissage che si svolgerà il 1 novembre\, alle ore 18.00\, avrà come madri
 na l’attrice e artista Adriana Russo\, la presentazione sarà curata da 
 Teresa M. Zurlo e la direzione artistica affidata a Tina Zurlo.\n\nDue art
 isti\, due universi paralleli\, due tecniche e due visioni del mondo diver
 si ma comuni.\n\nVenti opere totali in mostra\, 10 per singolo artista\, i
 n colloquio stretto tra loro. Da una parte l’astrattismo di Tsvetelina R
 usalieva\, che cerca di cogliere l'attimo e l'atmosfera nei ricordi dei su
 oi numerosi viaggi\,  creando paesaggi surreali di mondi lontani.\n\nArti
 sta poliedrica che ha al suo attivo numerose mostre in Bulgaria e all’es
 tero\, questa sua prima bi-personale si inserisce in un suo più ampio pro
 getto europeo\, da lei stessa ideato\, di presentazione di artisti bulgari
  al di fuori dei confini nazionali.\n\nDall’altra l’arte di Ilian Rach
 ov\, anch’esso bulgaro ma ormai da molti anni residente a Roma\, estrema
 mente figurativo\, che si ispira ai grandi maestri rinascimentali e barocc
 hi del passato\, creando in chiave contemporanei affreschi\, ritratti e te
 le religiosi e mitologiche. .\n\nArtista poliedrico Ilian Rachov\, noto an
 che per il suo legame a doppio filo con il mondo dell’alta moda e del fa
 shion\, essendo stato per anni designer della maison Versace.\n\nCome lo s
 tesso Rachov dichiara: “Da pittore autodidatta quale sono\, ho sempre ce
 rcato di attingere ispirazione dai grandi maestri del passato. Tutt'ora do
 po 36 anni di carriera\, quando varco la soglia dei musei\, mi rendo conto
  di non aver imparato quasi nulla\, perché l'arte figurativa richiede una
  grande conoscenza\, nonché concentrazione mentale e una certa disciplina
  che stanno scomparendo negli anni.”\n\nBreve Bio di Ilian Rachov\n\nIli
 an Rachov\, artista bulgaro\, originario di Sofia inizia la sua carriera a
 rtistica come autodidatta nel 1988\, realizzando copie di icone ortodosse 
 e affreschi medievali\, riscoprendo e impadronendosi di antiche tecniche o
 rmai dimenticate.\n\nMolte delle sue opere appartengono a collezioni pubbl
 iche o museali\, tra le quali: la Santa Sede del Vaticano\, il Museo Etnog
 rafico di Amburgo\, il Museo di Chiprovzi in Bulgaria\, il Monastero di Ri
 la in Bulgaria\, l’Istituto Internazionale Don Bosco a Torino\, la Chies
 a Santa Petka a Rupite\, solo per citarne alcuni.\n\nI suoi quadri fanno a
 ltresì parte di collezioni private in tutto il mondo\, dal Giappone agli 
 Stati Uniti\,  passando per la Russia e l’Australia. Tra i suoi clienti
  spiccano personalità intercontinentali tra le quali: Donatella Versace\,
  Penelope Cruz\, il Principe Alberto II di Monaco\, Gene Simmons\, la Firs
 t Lady of Bulgaria\, la Principessa Asma Al Qasimi (Sceicca di Sharja - Em
 irati Arabi)\,i  Principi Ruspoli\, la Principessa Rita Boncompagni Ludov
 isi\, Valeria Marini la  Principessa Fawaghi Al Qasimi\, e tanti altri an
 cora.\n\nIn parallelo crea per VERSACE diverse collezioni con disegni baro
 cchi con la famosa MEDUSA in utilizzo tuttora da VERSACE nella linea HOME 
 COLLECTION.\n\nCrea anche collezioni con il proprio nome vendute interamen
 te a Montecarlo\, Roma e Parigi.\n\nDal 2016\, trasferitosi a Roma\, colla
 bora con varie aziende di design e moda come Silvio Fiorello\, Acqua Lustr
 alis\, Angelina Roma creando capsule collection luxury\, con il suo stile 
 inconfondibile.\n\nNel 2005 è stato contattato dalla British Royal Mail p
 er poter utilizzare alcune delle sue opere per un'edizione limitata di fra
 ncobolli.\n\nNumerosi i premi vinti: nel 2015 riceve l'onorificenza di Doc
 tor dell'Arte dalla prestigiosa Fondazione Americana La Filologica pur La 
 Causa.\n\nVince anche il Fenomeno d'oro\, il titolo di Emergente artista\,
  ITALIA ARTE\, Premio Capitolino d’Oro\, Excellence AWARD\, Festival Eur
 opeo e tanti altri.\n\nGrazie al suo stile personale che unisce il realism
 o della pittura classica alla ricchezza dei colori dell’arte e del desig
 n contemporaneo è  stato incaricato di realizzare numerosi affreschi e o
 pere murali in palazzi e dimore storiche\, tra le quali ricordiamo Villa P
 aradiso a Torino\, Palazzo Ruspoli a Roma\, Palazzo Tittoni a Roma e in al
 cune chiese (Chiesa dei Salesiani a Torino\, Crocetta\, Chiesa St. Ilian a
  Sofia\, Cappella della Nunziatura a Sofia ecc.) e abitazioni private.\n\n
 Nell'arco della sua ventennale attività artistica Rachov ha partecipato a
  diversi concorsi e mostre di pittura e design in Italia e in Europa\n\nNe
 l 2021 realizza una mostra personale presso Galleria Internazionale Area C
 ontesa in via Margutta\, a Roma\, seguita di altre partecipazioni in varie
  rassegne d’Arte.\n\nPer maggiori info:\n\nWWW.ARTBYILIAN.COM\n\nWWW.RAC
 HOV.COM\n\n&nbsp\;\n\nBreve bio di Tsvetelina Rusalieva\n\nTsvetelina  Ru
 salieva vive e lavora a Sofia in Bulgaria\, dove ha studiato fashion desig
 n e interior design. Il suo esordio artistico sempre a Sofia\, con la sua 
 prima personale presso la House  of Europe.\n\nLa sua arte si colloca a p
 ieno titolo tra gli artisti bulgari contemporanei.\n\nI soggetti dei suoi 
 dipinti non hanno bisogno di descrizione e decodifica\, sono impressioni\,
  comunicate sulla tavolozza dei colori\, che trasformano il protagonismo c
 aotico in integrità organica.\n\nHa realizzato mostre a Berlino\, Saarbr
 ücken\, Palermo\, Roma\, Ginevra\, Skopje e New York. Ha partecipato a mo
 stre collettive e progetti artistici in Bulgaria e all'estero.\n\nL’arti
 sta è fondatore e direttore artistico della “Galleria d’Arte Moderna 
 Sofia” e della Galleria Bulgara d’Arte Contemporanea Mondiale di Roma 
 – “Galleria della Luce di Roma”.\n\nNel 2018\, la Rusalieva ha creat
 o il marchio di moda Fiorelina: accessori da donna fatti a mano che si dis
 tinguono per il design esclusivo e materiali naturali\, nonché prodotti a
 rtistici con stampe digitali dei suoi dipinti originali.\n\n&nbsp\;\n\nUni
 versi Estremi 1-10 novembre 2024\n\nBi-personale di Ilian Rachov e Tsvetel
 ina Rusalieva\n\nGalleria internazionale Area Contesa Arte – Via Margutt
 a 90 – Roma\n\nInaugurazione venerdì 1° novembre 2024 ore 18.00\n\n \
 n\nOrari: \n\nLunedì                          
             chiuso\n\n\n\nMartedì\, mercoledì e giovedì  
   11:30–13:30\, 15–18:30\n\n\nVenerdì\, sabato e domenica      
 16–19\n\n \n\n\n
ATTACH;FMTTYPE=image/jpeg:https://lazioeventi.com/wp-content/uploads/2024/
 10/Tsvetelina-Rusalieva-opera-3.jpg
CATEGORIES:Arte e Cultura nel Lazio
LOCATION:Roma\, Via Leopardi\, Roma\, Roma\, Lazio\, Italia
GEO:41.8942;12.5017
X-APPLE-STRUCTURED-LOCATION;VALUE=URI;X-ADDRESS=Via Leopardi\, Roma\, Roma\
 , Lazio\, Italia;X-APPLE-RADIUS=100;X-TITLE=Roma:geo:41.8942,12.5017
END:VEVENT
BEGIN:VTIMEZONE
TZID:Europe/Rome
X-LIC-LOCATION:Europe/Rome
BEGIN:STANDARD
DTSTART:20241027T020000
TZOFFSETFROM:+0200
TZOFFSETTO:+0100
TZNAME:CET
END:STANDARD
END:VTIMEZONE
END:VCALENDAR