BEGIN:VCALENDAR
VERSION:2.0
PRODID:-//wp-events-plugin.com//7.2.3.1//EN
TZID:Europe/Rome
X-WR-TIMEZONE:Europe/Rome
BEGIN:VEVENT
UID:35273@lazioeventi.com
DTSTART;TZID=Europe/Rome:20230523T210000
DTEND;TZID=Europe/Rome:20230523T223000
DTSTAMP:20230507T175858Z
URL:https://lazioeventi.com/eventi/uno-ad-uno-con-pilar-patassini
SUMMARY:Uno ad Uno con Pilar Patassini - Roma - 23 Maggio 23 21:00
DESCRIPTION:Sono Marina Rei e Ilaria Pilar Patassini le protagoniste dei pr
 ossimi appuntamenti di “Uno a uno”\, il format di Officina Pasolini id
 eato e curato dal giornalista Enrico Deregibus\, che prevede una serie di 
 incontri con alcuni dei protagonisti della miglior musica italiana\, tutti
  a ingresso gratuito.\n\nLe due serate sono in programma il 10 maggio e 23
  maggio alle 21 al Teatro Eduardo De Filippo di Roma\, all’interno appun
 to della programmazione di Officina Pasolini\, il laboratorio creativo di 
 alta formazione artistica del teatro\, della canzone e del multimediale e 
 HUB culturale di eventi della Regione Lazio\, diretto da Tosca.\n\nLa form
 ula di “Uno a uno” è quella consolidata: una intervista alternata ad 
 alcune canzoni eseguite dal vivo in acustico e a un paio di videoclip. Un 
 modo per raccontare gli artisti\, la loro carriera\, la loro poetica da mo
 lti punti di vista\, illuminando quello che c’è dentro e dietro alle ca
 nzoni\, fra ricordi\, riflessioni e aneddoti.\n\nIl 10 maggio sarà di sce
 na Marina Rei. Figlia di genitori musicisti\, ha sempre respirato musica d
 i diverse ispirazioni. Artisticamente nasce come percussionista e poi come
  batterista\, proprio come il padre\, ma suona anche chitarra e pianoforte
 . Come cantautrice\, dal suo esordio discografico a metà anni novanta ha 
 collezionato vari successi\, ma senza mai mettere in secondo piano la sua 
 natura di vera musicista\, come testimonia anche l’ultimo disco\, uscito
  da poco\, “Donna che parla in fretta Live”\, tratto dal concerto/even
 to del 2020 all’Auditorium Parco della Musica di Roma.\n\nDopo di lei\, 
 toccherà\, il 23 maggio\, a Ilaria Pilar Patassini. Cantante\, interprete
  e cantautrice\, nel suo mondo convergono canzone d’autore\, musica clas
 sica\, poesia\, letteratura\, jazz e world music. Sei i dischi all’attiv
 o a suo nome\, l’ultimo dei quali\, “Terra senza terra”\, appena usc
 ito\, verrà presentato nella serata a Officina Pasolini. L’album è com
 posto da undici canzoni d’autrice moderne\, originali e consapevoli. Con
  lei sul palco\, Federico Ferrandina\, chitarrista\, arrangiatore e produt
 tore artistico.\n\nL’entrata alle serate di “Uno ad uno” è gratuita
 \, con prenotazioni a questi indirizzi:\n\nMarina Rei: www.eventbrite.it/e
 /biglietti-enrico-deregibus-incontra-marina-rei-621677463027\n\nIlaria Pil
 ar Patassini: www.eventbrite.it/e/biglietti-enrico-deregibus-incontra-pila
 r-621683701687\n\nL’ingresso del Teatro Eduardo De Filippo\, che si trov
 a a Roma all’interno della struttura di Officina Pasolini\, è in viale 
 Antonino di San Giuliano 782 (angolo via Mario Toscano).\n\nEnrico Deregib
 us\, piemontese\, è giornalista e saggista\, oltre che direttore artistic
 o o consulente di molti festival ed eventi in tutta Italia. È considerato
  il biografo di Francesco De Gregori\, su cui ha pubblicato vari libri. Da
 l 2020 collabora con Officina Pasolini\, per la quale ha realizzato incont
 ri con artisti di varie estrazioni come Emidio Clementi dei Massimo Volume
 \, Dente\, Zen Circus\, Roberto Angelini\, Cristiano Godano\, Emma Nolde\,
  Sergio Cammariere\, ExtraLiscio\, Mario Venuti\, Nuvolari\, Ron\, Fast An
 imals e Slow Kids\, Ditonellapiaga\, Cristina Donà\, Il Muro del canto.\n
ATTACH;FMTTYPE=image/jpeg:https://lazioeventi.com/wp-content/uploads/2023/
 05/pantassini.jpeg
CATEGORIES:Musica, Spettacoli e Danza nel Lazio,Arte e Cultura nel Lazio
LOCATION:Roma\, Via Leopardi\, Roma\, Roma\, Lazio\, Italia
GEO:41.8942;12.5017
X-APPLE-STRUCTURED-LOCATION;VALUE=URI;X-ADDRESS=Via Leopardi\, Roma\, Roma\
 , Lazio\, Italia;X-APPLE-RADIUS=100;X-TITLE=Roma:geo:41.8942,12.5017
END:VEVENT
BEGIN:VTIMEZONE
TZID:Europe/Rome
X-LIC-LOCATION:Europe/Rome
BEGIN:DAYLIGHT
DTSTART:20230326T030000
TZOFFSETFROM:+0100
TZOFFSETTO:+0200
TZNAME:CEST
END:DAYLIGHT
END:VTIMEZONE
END:VCALENDAR