BEGIN:VCALENDAR
VERSION:2.0
PRODID:-//wp-events-plugin.com//7.2.3.1//EN
TZID:Europe/Rome
X-WR-TIMEZONE:Europe/Rome
BEGIN:VEVENT
UID:34665@lazioeventi.com
DTSTART;TZID=Europe/Rome:20230421T100000
DTEND;TZID=Europe/Rome:20230427T190000
DTSTAMP:20230317T133308Z
URL:https://lazioeventi.com/eventi/uomo-donna-mostra-personale-di-diego-pe
 truzzi
SUMMARY:“Uomo | Donna” mostra personale di Diego Petruzzi - Roma - 21 A
 prile 23 10:00
DESCRIPTION:A cura di Elisabetta Maio\nDal 21 al 27 Aprile 2023 Medina Art 
 Gallery presenta “Uomo | Donna”\, mostra personale di Diego Petruzzi n
 ella galleria di Via Merulana 220 a Roma.\nL’evento di opening si terrà
  il giorno 21 Aprile 2023 alle ore 18:00 a Via Merulana 220 con la present
 azione della curatrice Elisabetta Maio. \nDiego Petruzzi\, classe 1956\, n
 asce a Roma dove vive e lavora. Dimostra sin da giovane una propensione ve
 rso l’espressione artistica in senso lato frequentando laboratori di tea
 tro e corsi di restauro e doratura su legno\; esperienze che inevitabilmen
 te hanno orientato parte della sua produzione artistica. Contemporaneament
 e continua a disegnare e dipingere producendo opere di grafica e quadri di
 pinti.\nLa mostra “Uomo|Donna” mette in scena due aspetti complementar
 i della produzione artistica di Diego Petruzzi\, una produzione eclettica 
 che riflette l’eterogeneità dei suoi interessi e delle sue esperienze i
 n oltre trent’anni di carriera. Da un lato le pittosculture\, dall’alt
 ro le serigrafie.\nLe pittosculture compaiono per la prima volta in una mo
 stra personale del 1995 dal titolo “La realtà e il suo doppio”\, dove
 \, appese a dei fili mobili\, si muovevano accompagnate da un sottofondo m
 usicale composto dall’artista stesso che riproduceva versi di animali e 
 della natura. Oggi vediamo le Marionette installate su dei piedistalli ma 
 si può comunque interagire\, giocare con esse rendendo animato ciò che p
 er sua natura animato non è.\nLe serigrafie offrono una riflessione su qu
 ello che è e può essere il rapporto Uomo | Donna. Un rapporto in cui non
  esiste differenza tra il carnale e il platonico ma i due aspetti convivon
 o imprescindibilmente l’uno dall’altro e si necessitano per definirsi.
  Questa convivenza appare chiaramente nelle sue opere\, dove i protagonist
 i non si toccano mai e\, in alcuni casi\, protendono uno verso l’altro.\
 nIn breve:\nTitolo Mostra: “Uomo | Donna”\nArtisti: Diego Petruzzi\nOp
 ening Mostra: venerdì 21 Aprile alle ore 18:00.\nDurata Mostra: dal 21 al
  27 Aprile  2023.\nLuogo: Medina Art Gallery | Via Merulana 220 | 00184 
 – Roma\nContatti Medina Roma Art Gallery:\nEmail: info@medinaroma.com - 
 Tel. +39 06 960 30 764\nWebsite: https://www.medinaroma.com/\nSocial: face
 book.com/medinaroma.arte / instagram.com/medinaroma.arte\nOrario apertura:
  Dal lunedì al venerdì 10:00-13:00 e 15:00-19:00
ATTACH;FMTTYPE=image/jpeg:https://lazioeventi.com/wp-content/uploads/2023/
 03/Locandina-3.jpg
CATEGORIES:Arte e Cultura nel Lazio
LOCATION:Roma\, Via Leopardi\, Roma\, Roma\, Lazio\, Italia
GEO:41.8942;12.5017
X-APPLE-STRUCTURED-LOCATION;VALUE=URI;X-ADDRESS=Via Leopardi\, Roma\, Roma\
 , Lazio\, Italia;X-APPLE-RADIUS=100;X-TITLE=Roma:geo:41.8942,12.5017
END:VEVENT
BEGIN:VTIMEZONE
TZID:Europe/Rome
X-LIC-LOCATION:Europe/Rome
BEGIN:DAYLIGHT
DTSTART:20230326T030000
TZOFFSETFROM:+0100
TZOFFSETTO:+0200
TZNAME:CEST
END:DAYLIGHT
END:VTIMEZONE
END:VCALENDAR