BEGIN:VCALENDAR
VERSION:2.0
PRODID:-//wp-events-plugin.com//7.2.3.1//EN
TZID:Europe/Rome
X-WR-TIMEZONE:Europe/Rome
BEGIN:VEVENT
UID:42647@lazioeventi.com
DTSTART;TZID=Europe/Rome:20251012T110000
DTEND;TZID=Europe/Rome:20251012T193000
DTSTAMP:20251003T104651Z
URL:https://lazioeventi.com/eventi/urban-bazar-be-careful-im-trending-edit
 ion
SUMMARY:Urban Bazar - Be careful ... I'm trending! Edition - Roma - 12 Otto
 bre 25 11:00
DESCRIPTION:12 ottobre 2025\, @ Mediterraneo al Maxxi\, Museo MAXXI\, via G
 uido Reni 4A\, Roma\nIngresso libero e gratuito dalle 11:00 alle 19:30\n\n
 Urban Bazar torna per stravolgere i vostri armadi d’autunno! L’evento 
 di shopping Made in Italy si rinnova con l’appuntamento di domenica 12 o
 ttobre e conferma una delle sue location preferite\, lo spazio luminoso\, 
 ampio e accessibile del Mediterraneo al MAXXI\, all’interno del Museo MA
 XXI.\n\nVi aspettano artigiani\, designer\, creativi italiani che portano 
 nell'abbigliamento\, nei gioielli\, negli accessori\, borse e bijoux i lor
 o stili unici e diversi fra loro: dal classico allo sperimentale\, dall’
 urban rock a una raffinata eleganza\, dal glamour di classe alla freschezz
 a dello stile minimal. Gli espositori di Urban Bazar riescono a trasformar
 e idee\, trend e visioni in pezzi unici o in serie limitata: sono brand in
 dipendenti che vi raccontano le tecniche di lavorazione\, il gusto e la ri
 cercata creatività che distinguono i prodotti del Made in Italy nel mondo
  e della selezione\, sempre attuale e vivace\, scelta per il nostro Bazar.
 \n\nPreparatevi a godervi una giornata immersiva nei colori vibranti\, nel
 le stoffe pregiate\, nelle collezioni esclusive fresche di lancio di abbig
 liamento\, gioielli\, borse\, accessori\, o a perdervi fra bijoux nuovissi
 mi e divertenti o deliziosamente vintage.\n\nUrban Bazar da quasi dieci an
 ni non ha mai perso di vista l’obiettivo per cui è nato: mettere in com
 unicazione gli artigiani con il pubblico di appassionati\, con chi sceglie
  consapevolmente uno stile di acquisto e di vita in cui la qualità\, l’
 unicità\, la cura manufatturiera hanno grande rilevanza.\n\nLontana dai c
 oncetti di uniformità della moda fast fashion\, l’esperienza Urban in o
 gni sua edizione\, vuole raccontare molto altro e il successo di pubblico 
 che si rinnova conferma il desiderio condiviso di scoprire\, sperimentare\
 , essere unici e inimitabili!\n\nVi aspettiamo nel bazar più elettrico ed
  eclettico di Roma\, per una giornata di relax\, shopping e piccole meravi
 glie!
ATTACH;FMTTYPE=image/jpeg:https://lazioeventi.com/wp-content/uploads/2025/
 10/v2Locandina-UB-ottobre-2025-Roma_.jpg
CATEGORIES:Fiere e Mercatini nel Lazio
LOCATION:Roma\, Via Leopardi\, Roma\, Roma\, Lazio\, Italia
GEO:41.8942;12.5017
X-APPLE-STRUCTURED-LOCATION;VALUE=URI;X-ADDRESS=Via Leopardi\, Roma\, Roma\
 , Lazio\, Italia;X-APPLE-RADIUS=100;X-TITLE=Roma:geo:41.8942,12.5017
END:VEVENT
BEGIN:VTIMEZONE
TZID:Europe/Rome
X-LIC-LOCATION:Europe/Rome
BEGIN:DAYLIGHT
DTSTART:20250330T030000
TZOFFSETFROM:+0100
TZOFFSETTO:+0200
TZNAME:CEST
END:DAYLIGHT
END:VTIMEZONE
END:VCALENDAR