BEGIN:VCALENDAR
VERSION:2.0
PRODID:-//wp-events-plugin.com//7.2.3.1//EN
TZID:Europe/Rome
X-WR-TIMEZONE:Europe/Rome
BEGIN:VEVENT
UID:35027@lazioeventi.com
DTSTART;TZID=Europe/Rome:20230413T180000
DTEND;TZID=Europe/Rome:20230413T200000
DTSTAMP:20230412T082139Z
URL:https://lazioeventi.com/eventi/utopia-dellocchio-e-dellorecchio
SUMMARY:Utopia dell’occhio e dell’orecchio - Roma - 13 Aprile 23 18:00
DESCRIPTION:La Escuela Internacional de Cine y TV (EICTV) di San Antonio de
  Los Banos (Cuba) si racconta\n\nUna “Utopia dell’occhio e dell’orec
 chio”: così il fondatore del Nuovo Cinema Latinoamericano\, Fernando Bi
 rri – uno dei promotori della EICTV – definì il progetto della Escuel
 a al momento della sua nascita\, nel 1986. Oggi\, dopo quasi quarant’ann
 i\, pur tra tante difficoltà\, la Escuela resiste e continua ad ospitare 
 giovani cineasti dall’America Latina\, dall’Asia\, dall’Africa e dal
  resto del mondo.\nIn occasione della visita in Italia di Susana Molina e 
 Maria Julia Grillo\, rispettivamente Direttrice della Escuela e Coordinatr
 ice accademica della Escuela\, l’Archivio Audiovisivo del Movimento Oper
 aio e Democratico\, l’Ambasciata della Repubblica di Cuba e l’Associaz
 ione Italia-Cuba organizzano un incontro pubblico nel quale le due ospiti 
 cubane racconteranno la Escuela\, la sua storia\, la sua filosofia dell’
 «aprender haciendo»\, in dialogo con lo storico Carlo Felice Casula e la
  regista Monica Maurer.\nInterverranno inoltre l’Ambasciatrice della Rep
 ubblica di Cuba Mirta Granda Averhoff\, il Presidente dell’Archivio Audi
 ovisivo del Movimento Operaio e Democratico Vincenzo Vita\, il Coordinator
 e generale della Scuola d'Arte Cinematografica Gian Maria Volonté e diret
 tore del Premio Cesare Zavattini Antonio Medici\, il Presidente nazionale 
 dell’Associazione Italia-Cuba Marco Papacci.\n\n"Dedichiamo questa inizi
 ativa a Gianni Minà\, grande giornalista utopico e amico di Cuba e dei fo
 ndatori della Escuela come Gabriel García Márquez\, Fidel Castro\, Julio
  García Espinosa\, Tomás Gutiérrez Alea e Fernando Birri."
ATTACH;FMTTYPE=image/jpeg:https://lazioeventi.com/wp-content/uploads/2023/
 04/EICTV-a-ROMA.jpg
CATEGORIES:Arte e Cultura nel Lazio
LOCATION:Roma\, Via Leopardi\, Roma\, Roma\, Lazio\, Italia
GEO:41.8942;12.5017
X-APPLE-STRUCTURED-LOCATION;VALUE=URI;X-ADDRESS=Via Leopardi\, Roma\, Roma\
 , Lazio\, Italia;X-APPLE-RADIUS=100;X-TITLE=Roma:geo:41.8942,12.5017
END:VEVENT
BEGIN:VTIMEZONE
TZID:Europe/Rome
X-LIC-LOCATION:Europe/Rome
BEGIN:DAYLIGHT
DTSTART:20230326T030000
TZOFFSETFROM:+0100
TZOFFSETTO:+0200
TZNAME:CEST
END:DAYLIGHT
END:VTIMEZONE
END:VCALENDAR