BEGIN:VCALENDAR
VERSION:2.0
PRODID:-//wp-events-plugin.com//7.2.3.1//EN
TZID:Europe/Rome
X-WR-TIMEZONE:Europe/Rome
BEGIN:VEVENT
UID:44263@lazioeventi.com
DTSTART;TZID=Europe/Rome:20260418T183000
DTEND;TZID=Europe/Rome:20260418T200000
DTSTAMP:20260417T095246Z
URL:https://lazioeventi.com/eventi/valle-aurelia-suite-per-clarinetto-bass
 o-e-pianoforte
SUMMARY:Valle Aurelia - Suite per Clarinetto basso e Pianoforte - Anagni - 
 18 Aprile 26 18:30
DESCRIPTION:Sabato 18 aprile alle ore 18:30 un concerto jazz d’eccezione:
  VALLE AURELIA - SUITE PER CLARINETTO BASSO E PIANOFORTE con i brani origi
 nali di Marco Colonna\, eseguiti dal clarinettista Marco Colonna e il pian
 ista Andrea Centra \n\nL’ingresso è ad offerta libera.\n\nUna musica ch
 e assomiglia molto alle foto in bianco e nero\, ai piccoli quadretti che r
 itraggono storie antiche e suoni di gioia\, dolore\, paura\, corse di bamb
 ini. I colori di rarefanno\, le foto sbiadiscono\, si strappano\, poi a un
  certo punto riaffiorano e chiedono di essere viste\, narrate\, cantate. S
 ono le foto che raccontano la storia di Valle Aurelia\, il borghetto dei f
 ornaciai\, anche conosciuto come “Valle dell’Inferno”\, ovvero quell
 a zona di Roma dove un tempo sorgevano numerose fornaci dove si fabbricava
 no mattoni\, e i cui fumi riempivano la valle e dove si diffusero le idee 
 socialiste\, antifasciste e di lotta operaia.\nTutto questo diventa un rac
 conto personale e musicale\, con melodie\, intervalli\, movimenti dei bass
 i\, e la memoria\, attraverso la musica\, diviene memoria vivente.\nUna mu
 sica primitiva\, terrena\, diretta\, che opera metamorfosi e diventa melod
 ie aeree\, silenzi\, arcane e raffinate polifonie. Suoni che si perdono\, 
 suoni che si ritrovano.\nAll’ascolto è difficile capire dove finisce la
  musica scritta e comincia l’improvvisazione\, anzi non è importante ca
 pirlo perché tutto fluisce nel suo continuo divenire e il suono diventa c
 orpo\n\nPer avere informazioni e prenotare entrambi gli eventi contattare 
 il 328 835 0889
ATTACH;FMTTYPE=image/jpeg:https://lazioeventi.com/wp-content/uploads/2026/
 04/barnekow-1.jpg
CATEGORIES:Musica, Spettacoli e Danza nel Lazio
LOCATION:Anagni\, Comune\, Anagni\, Frosinone\, Lazio\, Italia
GEO:41.7423;13.159
X-APPLE-STRUCTURED-LOCATION;VALUE=URI;X-ADDRESS=Comune\, Anagni\, Frosinone
 \, Lazio\, Italia;X-APPLE-RADIUS=100;X-TITLE=Anagni:geo:41.7423,13.159
END:VEVENT
BEGIN:VTIMEZONE
TZID:Europe/Rome
X-LIC-LOCATION:Europe/Rome
BEGIN:DAYLIGHT
DTSTART:20260329T030000
TZOFFSETFROM:+0100
TZOFFSETTO:+0200
TZNAME:CEST
END:DAYLIGHT
END:VTIMEZONE
END:VCALENDAR