BEGIN:VCALENDAR
VERSION:2.0
PRODID:-//wp-events-plugin.com//7.2.3.1//EN
TZID:Europe/Rome
X-WR-TIMEZONE:Europe/Rome
BEGIN:VEVENT
UID:26616@lazioeventi.com
DTSTART:20230305T083000Z
DTEND:20230305T183000Z
DTSTAMP:20230223T152620Z
URL:https://lazioeventi.com/eventi/vecchio-mercatino-di-manziana
SUMMARY:Mercatino dell'Antiquariato di Manziana - Manziana - 5 Marzo 23 09:
 30
DESCRIPTION:Riparte il Mercatino di Manziana con artigianato\, oggettistica
 \, prodotti tipici locali e delle varie regioni Italiane.\n\nVieni a a tro
 varci e passa una giornata con noi...non te ne pentirai !!!
ATTACH;FMTTYPE=image/jpeg:https://lazioeventi.com/wp-content/uploads/2020/
 06/mercatino-manziana-1.jpg
CATEGORIES:Fiere e Mercatini nel Lazio
LOCATION:Manziana\, Comune di Manziana\, Manziana\, Roma\, Lazio\, Italia
GEO:42.1301;12.1301
X-APPLE-STRUCTURED-LOCATION;VALUE=URI;X-ADDRESS=Comune di Manziana\, Manzia
 na\, Roma\, Lazio\, Italia;X-APPLE-RADIUS=100;X-TITLE=Manziana:geo:42.1301
 ,12.1301
END:VEVENT
END:VCALENDAR