BEGIN:VCALENDAR
VERSION:2.0
PRODID:-//wp-events-plugin.com//7.2.3.1//EN
TZID:Europe/Rome
X-WR-TIMEZONE:Europe/Rome
BEGIN:VEVENT
UID:43594@lazioeventi.com
DTSTART;TZID=Europe/Rome;VALUE=DATE:20260118
DTEND;TZID=Europe/Rome;VALUE=DATE:20260601
DTSTAMP:20260121T102131Z
URL:https://lazioeventi.com/eventi/venus
SUMMARY:Venus - Roma - 18 Gennaio 26 00:00
DESCRIPTION:PM23 PRESENTA "VENUS": UN DIALOGO MONUMENTALE TRA JOANA VASCONC
 ELOS E VALENTINO GARAVANI\n\nLa Fondazione Valentino Garavani e Giancarlo 
 Giammetti inaugura il nuovo capitolo espositivo a Palazzo Mignanelli con u
 n’opera di arte partecipativa che unisce Haute Couture\, artigianato e i
 mpegno sociale.\n\nPM23 (Piazza Mignanelli 23)\, il nuovo spazio culturale
  voluto da Valentino Garavani e Giancarlo Giammetti\, annuncia l’apertur
 a della mostra "VENUS"\, visitabile dal 18 gennaio al 31 maggio 2026.\n\nL
 ’esposizione rappresenta un incontro inedito tra l’arte contemporanea 
 di Joana Vasconcelos e l’eredità creativa di Valentino Garavani. Al cen
 tro del progetto vi è un percorso non lineare che accosta opere iconiche 
 dell’artista portoghese a nuovi lavori site-specific\, concepiti in dire
 tta risonanza con il patrimonio stilistico del Maestro.\n\nLA VALCHIRIA VE
 NUS: ARTE COME ATTO COLLETTIVO Cuore pulsante della mostra è la monumenta
 le Valchiria VENUS\, una scultura tessile che non si limita a dialogare co
 n la Haute Couture ma ne reinterpreta i codici attraverso l’astrazione. 
 L’opera è il risultato di un imponente progetto di arte partecipativa c
 he ha coinvolto oltre 200 persone per 756 ore di workshop\, unendo in un u
 nico gesto artistico mani diverse provenienti da ogni angolo di Roma.\n\nL
 a realizzazione dei moduli all'uncinetto (oltre 200 kg di materiale) ha vi
 sto la collaborazione di:\n- Studenti di NABA (Nuova Accademia di Belle Ar
 ti)\, Accademia di Costume e Moda e Maiani Accademia Moda\;\n- Piccoli paz
 ienti dell'Ospedale Bambino Gesù\;\n- Pazienti del Gemelli Medical Center
 \;\n- Ospiti delle case per rifugiati di INTERSOS e del centro antiviolenz
 a Differenza Donna\;\n- Detenute della Casa Circondariale di Rebibbia (in 
 partnership con Fondazione Severino).\n\nCome afferma Joana Vasconcelos: 
 “La mostra è un dialogo. Il mio lavoro e quello di Valentino Garavani s
 i parlano fino a convergere in un momento finale... La bellezza genera arm
 onia\, e l'armonia porta con sé la promessa di pace e giustizia sociale.
 ”\n\nUN NUOVO SPAZIO PER LA CITTÀ Con "VENUS"\, PM23 conferma la sua mi
 ssione di restituire a Roma un luogo dove l'arte e la moda diventano strum
 enti di crescita sociale. L’iniziativa è patrocinata dall'Assessorato a
 lla Cultura e realizzata in collaborazione con il Municipio I Roma Centro.
 \n\nINFORMAZIONI UTILI\nTitolo: VENUS – Valentino Garavani attraverso gl
 i occhi di Joana Vasconcelos\nSede: PM23\, Piazza Mignanelli 23\, Roma\nDa
 te: 18 gennaio – 31 maggio 2026\nOrari: Aperto tutti i giorni\, 11:00 
 – 20:00 (ultimo ingresso 19:30)\nBiglietti (dal 1° Gennaio 2026):\nOnli
 ne: Intero €15 / Ridotto €12\nIn loco: Intero €18 / Ridotto €15\nI
 ngresso gratuito per accompagnatori di persone con disabilità.\nPer ulter
 iori informazioni e prenotazioni: ticketing@piazzamignanelli23.com Sito uf
 ficiale: piazzamignanelli23.com
ATTACH;FMTTYPE=image/jpeg:https://lazioeventi.com/wp-content/uploads/2026/
 01/venus.jpeg
CATEGORIES:Arte e Cultura nel Lazio
LOCATION:Roma\, Via Leopardi\, Roma\, Roma\, Lazio\, Italia
GEO:41.8942;12.5017
X-APPLE-STRUCTURED-LOCATION;VALUE=URI;X-ADDRESS=Via Leopardi\, Roma\, Roma\
 , Lazio\, Italia;X-APPLE-RADIUS=100;X-TITLE=Roma:geo:41.8942,12.5017
END:VEVENT
BEGIN:VTIMEZONE
TZID:Europe/Rome
X-LIC-LOCATION:Europe/Rome
BEGIN:STANDARD
DTSTART:20251026T020000
TZOFFSETFROM:+0200
TZOFFSETTO:+0100
TZNAME:CET
END:STANDARD
BEGIN:DAYLIGHT
DTSTART:20260329T030000
TZOFFSETFROM:+0100
TZOFFSETTO:+0200
TZNAME:CEST
END:DAYLIGHT
END:VTIMEZONE
END:VCALENDAR