BEGIN:VCALENDAR
VERSION:2.0
PRODID:-//wp-events-plugin.com//7.2.3.1//EN
TZID:Europe/Rome
X-WR-TIMEZONE:Europe/Rome
BEGIN:VEVENT
UID:30403@lazioeventi.com
DTSTART;TZID=Europe/Rome:20220410T153000
DTEND;TZID=Europe/Rome:20220410T173000
DTSTAMP:20220407T085407Z
URL:https://lazioeventi.com/eventi/veroli-e-le-sue-bellezze
SUMMARY:Veroli e le sue bellezze - Veroli - 10 Aprile 22 15:30
DESCRIPTION:Domenica 10 aprile ore 15:30 appuntamento per una passeggiata p
 rimaverile alla scoperta di veroli:\n\n 	calendario romano fasti verolani\
 n 	museo civico archeologico\n 	sala consiliare\n 	cappella san luigi\n 	d
 uomo di sant'andrea\n 	basilica di santa maria salome\n\nvisita curata dal
 le guide turistiche abilitate "L'airone"\n\ncosto a persona €8.00 + €2
 .00 per ingresso al museo\n*fino a 15 anni la visita è gratuita\n\nprenot
 azione obbligatoria!\n\nper informazioni e prenotazioni inviare un messagg
 io whatsapp o chiamare il numero 0775238929 oppure scrivere una mail a pro
 locodiveroli@libero.it
ATTACH;FMTTYPE=image/jpeg:https://lazioeventi.com/wp-content/uploads/2022/
 04/bellezze-veroli.jpg
CATEGORIES:Arte e Cultura nel Lazio
LOCATION:Veroli\, Comune di Veroli\, Veroli\, Frosinone\, Lazio\, Italia
GEO:41.6911;13.4178
X-APPLE-STRUCTURED-LOCATION;VALUE=URI;X-ADDRESS=Comune di Veroli\, Veroli\,
  Frosinone\, Lazio\, Italia;X-APPLE-RADIUS=100;X-TITLE=Veroli:geo:41.6911,
 13.4178
END:VEVENT
BEGIN:VTIMEZONE
TZID:Europe/Rome
X-LIC-LOCATION:Europe/Rome
BEGIN:DAYLIGHT
DTSTART:20220327T030000
TZOFFSETFROM:+0100
TZOFFSETTO:+0200
TZNAME:CEST
END:DAYLIGHT
END:VTIMEZONE
END:VCALENDAR