BEGIN:VCALENDAR
VERSION:2.0
PRODID:-//wp-events-plugin.com//7.2.3.1//EN
TZID:Europe/Rome
X-WR-TIMEZONE:Europe/Rome
BEGIN:VEVENT
UID:30872@lazioeventi.com
DTSTART;TZID=Europe/Rome:20220515T103000
DTEND;TZID=Europe/Rome:20220515T123000
DTSTAMP:20220510T064629Z
URL:https://lazioeventi.com/eventi/villa-sciarra
SUMMARY:Villa Sciarra - Roma - 15 Maggio 22 10:30
DESCRIPTION:Tra Natura e Storia: la villa Sciarra\n\nAddossata alle Mura Gi
 anicolensi\, fatte costruire dal papa Urbano VIII Barberini\, la villa Sci
 arra era in antichità un luogo dove sorgevano santuari dedicati a divinit
 à straniere. Ad iniziare dal Cinquecento il colle Gianicolo venne occupat
 o da vigne e casini suburbani e definitivamente\, nel 1653\, l’area dell
 a attuale villa venne acquistata dal cardinale Antonio Barberini per poi e
 ntrare nelle proprietà del ramo Barberini-Sciarra.\n\nL’aspetto odierno
  della villa risale all’inizio del Novecento\, quando i coniugi american
 i Tower-Wurts vollero ricreare qui lo scenario di un giardino barocco ital
 iano\, sistemando nel parco le celebri statue in arenaria provenienti dal 
 castello Visconti nel bergamasco. Una realizzazione curiosa quella della v
 illa Sciarra\, dove le statue a soggetto mitologico decorano fontane e occ
 hieggiano tra le quinte arboree. Con la sua vegetazione rigogliosa e diver
 sificata la villa costituisce anche un raro esempio di orto botanico.\n\nA
 ppuntamento: domenica 15 maggio alle ore 10.30 in Roma\, ingresso su via C
 alandrelli di fronte all’angolo con via Nicola Fabrizi.\nDurata: 2 ore c
 irca.\n\nCosto omnicomprensivo\n(organizzazione\, Guida\, radio-auricolari
  “usa e getta” per il miglior ascolto della Guida nel distanziamento f
 isico):\n€ 15\,00 per i Soci\, € 20\,00 per i non-Soci\n(non è obblig
 atorio il tesseramento all’Associazione)\n\nPRENOTAZIONI: alle mail dell
 ’Associazione o via cell. 3397448084 - 3395852777\n\nPAGAMENTO:\n- su c/
 c presso Unicredit SpA\, intestato ad ASSOCIAZIONE AMICI DEL TEVERE\, IBAN
  IT 03 L 02008 05021 000401070578\n- da credito disponibile
ATTACH;FMTTYPE=image/jpeg:https://lazioeventi.com/wp-content/uploads/2022/
 05/villa-sciarra.jpg
CATEGORIES:Arte e Cultura nel Lazio
LOCATION:Roma\, Via Leopardi\, Roma\, Roma\, Lazio\, Italia
GEO:41.8942;12.5017
X-APPLE-STRUCTURED-LOCATION;VALUE=URI;X-ADDRESS=Via Leopardi\, Roma\, Roma\
 , Lazio\, Italia;X-APPLE-RADIUS=100;X-TITLE=Roma:geo:41.8942,12.5017
END:VEVENT
BEGIN:VTIMEZONE
TZID:Europe/Rome
X-LIC-LOCATION:Europe/Rome
BEGIN:DAYLIGHT
DTSTART:20220327T030000
TZOFFSETFROM:+0100
TZOFFSETTO:+0200
TZNAME:CEST
END:DAYLIGHT
END:VTIMEZONE
END:VCALENDAR