BEGIN:VCALENDAR
VERSION:2.0
PRODID:-//wp-events-plugin.com//7.2.3.1//EN
TZID:Europe/Rome
X-WR-TIMEZONE:Europe/Rome
BEGIN:VEVENT
UID:41221@lazioeventi.com
DTSTART;TZID=Europe/Rome;VALUE=DATE:20250510
DTEND;TZID=Europe/Rome;VALUE=DATE:20250512
DTSTAMP:20250410T162033Z
URL:https://lazioeventi.com/eventi/villaggio-de-sanctis-2025-05-10
SUMMARY:Villaggio De Sanctis - Roma - 10 Maggio 25 00:00
DESCRIPTION:Il Circo torna a Villa De Sanctis con otto appuntamenti nel fin
 e settimana\n\nNei fine settimana dal 26 aprile all’11 maggio 2025 torna
  il Circo Ideale di Meltingpot\, la rassegna che porta il circo contempora
 neo nel V Municipio di Roma. Saranno otto gli appuntamenti nel verde di Vi
 lla De Sanctis\, con inizio alle ore 17\, che riempiranno i pomeriggi del 
 quartiere e coinvolgeranno con allegria i partecipanti.\n\nIl progetto è 
 stato realizzato all'interno dell'iniziativa “DuemilaEVentiquattro”\, 
 finanziato da Roma Municipio V\, che oltre alla rassegna di Circo Ideale h
 a ospitato lo scorso 15 dicembre lo spettacolo di stand up comedy “Pensi
 eri a voce alta” di e con Matteo Cirillo insieme a Emiliano Morana\, acc
 ompagnati dalla musica live di Claudio Cirillo. \n\nL’obiettivo dell'ini
 ziativa è trovare una partecipazione attiva nella comunità che accoglie 
 il progetto\, capace di coinvolgere spettatori di tutte le età: così Mel
 tingpot\, già attiva nel territorio del Municipio V con iniziative di cir
 co contemporaneo (come ERPfest\, la rassegna che si svolge in Largo delle 
 Terme Gordiane o Villaggio de Sanctis\, altra manifestazione che ha luogo 
 presso l’omonima Villa de Sanctis)\, propone un ricco programma di perfo
 rmance trasversali\, adatte a grandi e piccoli.\n\nIl 26 e 27 aprile Circo
  Ideale apre le danze con la compagnia Chilowatt Electric Company e gli sp
 ettacoli Rex e Street Swing. Il 4 maggio doppio appuntamento con Extravaga
 nza Show di Chapeau Clown e Circus Taste di Hiram Meza. Il 9 maggio è il 
 turno dello spettacolo 6 Memos\, dell’omonima compagnia\, in cui tre per
 sonaggi si ritrovano a ricostruire un mondo distrutto. Il 10 maggio prepar
 atevi a dire Wow! con l’omonimo spettacolo di e con Andrea Romanzi. La r
 assegna si chiude l’11 maggio con un doppio appuntamento\, che vede Mima
  e la valigia nel sogno di Alice Bella e Di palo in frasca - 2025 edition 
 del Duo Flosh.\n\nLa partecipazione agli eventi richiede prenotazione obbl
 igatoria tramite la piattaforma Eventbrite. [https://shorturl.at/SITmq]\n\
 nInfo su:\nhttps://www.meltingpotroma.it\nhttps://www.instagram.com/meltin
 gpot_roma/\n\nCirco Ideale è un progetto di Meltingpot \nEvento finanziat
 o dal Municipio Roma V
ATTACH;FMTTYPE=image/jpeg:https://lazioeventi.com/wp-content/uploads/2023/
 10/VDS-2023_Foto-Giulia-Castellano.jpg
CATEGORIES:Sport, Tempo Libero e Divertimento nel Lazio
LOCATION:Roma\, Via Leopardi\, Roma\, Roma\, Lazio\, Italia
GEO:41.8942;12.5017
X-APPLE-STRUCTURED-LOCATION;VALUE=URI;X-ADDRESS=Via Leopardi\, Roma\, Roma\
 , Lazio\, Italia;X-APPLE-RADIUS=100;X-TITLE=Roma:geo:41.8942,12.5017
END:VEVENT
BEGIN:VTIMEZONE
TZID:Europe/Rome
X-LIC-LOCATION:Europe/Rome
BEGIN:DAYLIGHT
DTSTART:20250330T030000
TZOFFSETFROM:+0100
TZOFFSETTO:+0200
TZNAME:CEST
END:DAYLIGHT
END:VTIMEZONE
END:VCALENDAR