BEGIN:VCALENDAR
VERSION:2.0
PRODID:-//wp-events-plugin.com//7.2.3.1//EN
TZID:Europe/Rome
X-WR-TIMEZONE:Europe/Rome
BEGIN:VEVENT
UID:31461@lazioeventi.com
DTSTART;TZID=Europe/Rome:20220621T100000
DTEND;TZID=Europe/Rome:20220702T193000
DTSTAMP:20220621T145133Z
URL:https://lazioeventi.com/eventi/vincenzo-galluzzo-la-mostra-the-cage
SUMMARY:Vincenzo Galluzzo la mostra THE CAGE - Roma - 21 Giugno 22 10:00
DESCRIPTION:ha inaugurato  sabato 18 Giugno e sarà visitabile fino al 2 
 Luglio\, alla galleria d’arte Il Leone\, la personale di Vincenzo Gal
 luzzo "The Cage"\, in mostra le grandi tele del Maestro siciliano che rif
 lettono tutte sul tema della “gabbia” mentale\, fisica\, spirituale.\n
 \nE’ una mostra “esistenzialista” quella che è stata inaugurata all
 a galleria d’arte Il Leone in Via Aleardo Aleardi 12 a Roma\, perché co
 me dice il noto critico d’arte Daniele Radini Tedeschi - curatore alla B
 iennale di Venezia – “i quadri diventano finestre munite di inferriate
 \, grate\, cesure dove si inframmezza la vista di un quieto dipinto astrat
 to con un reticolo di linee perpendicolari\, per lo più di colore nero\, 
 che limitano la funzione stessa del pubblico mettendo in scacco il concett
 o di fruizione. Prima di Galluzzo solo Franco Angeli con i quadri velati e
  Mimmo Rotella con la serie blanks (manifesti monocromatici che coprivano
  i suoi stessi décollage) avevano provato a estromettere l’opera dal qu
 adro\, contraddicendo la stessa ispirazione artistica attraverso il filtro
  disturbante”.\n\nL’esposizione\, dal titolo The Cage ossia La Gabbia\
 , comprenderà dieci grandi opere dell’artista originario di Porto Emped
 ocle che ora manifesta una raggiunta maturità estetica rispetto agli esor
 di dove invece l’indagine era indirizzata da un lato verso la luce e le
  sue manifestazioni\, dall’altro verso l’evocazione di atmosfere sensi
 bili\, quasi tangibili ma rarefatte in direzione di una dissoluzione delle
  forme.\n\nGli anni Venti del secolo attuale\, con i suoi rivolgimenti soc
 iali tra epidemia e guerra\, sembrano imporre la necessità di interrogars
 i sull’esistenza e Galluzzo lo fa instaurando con l’osservatore un “
 approccio panottico” per dirla con le parole di Radini Tedeschi\, dove i
 l riguardante “smarrisce l’occhio nell’intrico di linee sempre più
  serrato\, cercando una fuga da Alcatraz o perdendosi nelle esplosioni di 
 colore imprigionato”.\n\nL’esposizione è curata da Gianni Dunil e Ari
 anna Fantuzzi ed ha inaugurato al pubblico il 18 Giugno e sarà visitabile
  fino al 2 luglio.\n\nGalleria d’Arte Il Leone\, via Aleardo Aleardi 12\
 , Roma\nApertura: martedì/sabato 10-13\;16-19.30/ Domenica 10-13\nIngress
 o Libero\n\nEmail:  start@starteventi.com\nWeb:  starteventi.
ATTACH;FMTTYPE=image/jpeg:https://lazioeventi.com/wp-content/uploads/2022/
 06/Vincenzo-Galluzzo-1.jpg
CATEGORIES:Arte e Cultura nel Lazio
LOCATION:Roma\, Via Leopardi\, Roma\, Roma\, Lazio\, Italia
GEO:41.8942;12.5017
X-APPLE-STRUCTURED-LOCATION;VALUE=URI;X-ADDRESS=Via Leopardi\, Roma\, Roma\
 , Lazio\, Italia;X-APPLE-RADIUS=100;X-TITLE=Roma:geo:41.8942,12.5017
END:VEVENT
BEGIN:VTIMEZONE
TZID:Europe/Rome
X-LIC-LOCATION:Europe/Rome
BEGIN:DAYLIGHT
DTSTART:20220327T030000
TZOFFSETFROM:+0100
TZOFFSETTO:+0200
TZNAME:CEST
END:DAYLIGHT
END:VTIMEZONE
END:VCALENDAR