BEGIN:VCALENDAR
VERSION:2.0
PRODID:-//wp-events-plugin.com//7.2.3.1//EN
TZID:Europe/Rome
X-WR-TIMEZONE:Europe/Rome
BEGIN:VEVENT
UID:30761@lazioeventi.com
DTSTART;TZID=Europe/Rome;VALUE=DATE:20220709
DTEND;TZID=Europe/Rome;VALUE=DATE:20220711
DTSTAMP:20220502T095430Z
URL:https://lazioeventi.com/eventi/vino-in-festa
SUMMARY:Vino in Festa - Paliano - 9 Luglio 22 00:00
DESCRIPTION:Torna Vino in Festa\nTorna con la XXIII edizione\nTorna con una
  veste tutta nuova ed una formula completamente rivoluzionata.\n9 e 10 Lug
 lio!
ATTACH;FMTTYPE=image/jpeg:https://lazioeventi.com/wp-content/uploads/2022/
 05/vino-festa-paliano.jpg
CATEGORIES:Sagre, Gastronomia e Tradizioni nel Lazio
LOCATION:Paliano\, Comune\, Paliano\, Frosinone\, Lazio\, Italia
GEO:41.8048;13.0599
X-APPLE-STRUCTURED-LOCATION;VALUE=URI;X-ADDRESS=Comune\, Paliano\, Frosinon
 e\, Lazio\, Italia;X-APPLE-RADIUS=100;X-TITLE=Paliano:geo:41.8048,13.0599
END:VEVENT
BEGIN:VTIMEZONE
TZID:Europe/Rome
X-LIC-LOCATION:Europe/Rome
BEGIN:DAYLIGHT
DTSTART:20220327T030000
TZOFFSETFROM:+0100
TZOFFSETTO:+0200
TZNAME:CEST
END:DAYLIGHT
END:VTIMEZONE
END:VCALENDAR